BEGIN:VCALENDAR
VERSION:2.0
PRODID:-//Broadmoor Baptist Church - ECPv6.15.20//NONSGML v1.0//EN
CALSCALE:GREGORIAN
METHOD:PUBLISH
X-ORIGINAL-URL:https://www.broadmoor.org
X-WR-CALDESC:Events for Broadmoor Baptist Church
REFRESH-INTERVAL;VALUE=DURATION:PT1H
X-Robots-Tag:noindex
X-PUBLISHED-TTL:PT1H
BEGIN:VTIMEZONE
TZID:America/Chicago
BEGIN:DAYLIGHT
TZOFFSETFROM:-0600
TZOFFSETTO:-0500
TZNAME:CDT
DTSTART:20240310T080000
END:DAYLIGHT
BEGIN:STANDARD
TZOFFSETFROM:-0500
TZOFFSETTO:-0600
TZNAME:CST
DTSTART:20241103T070000
END:STANDARD
BEGIN:DAYLIGHT
TZOFFSETFROM:-0600
TZOFFSETTO:-0500
TZNAME:CDT
DTSTART:20250309T080000
END:DAYLIGHT
BEGIN:STANDARD
TZOFFSETFROM:-0500
TZOFFSETTO:-0600
TZNAME:CST
DTSTART:20251102T070000
END:STANDARD
BEGIN:DAYLIGHT
TZOFFSETFROM:-0600
TZOFFSETTO:-0500
TZNAME:CDT
DTSTART:20260308T080000
END:DAYLIGHT
BEGIN:STANDARD
TZOFFSETFROM:-0500
TZOFFSETTO:-0600
TZNAME:CST
DTSTART:20261101T070000
END:STANDARD
END:VTIMEZONE
BEGIN:VEVENT
DTSTART;TZID=America/Chicago:20251019T110000
DTEND;TZID=America/Chicago:20251019T114500
DTSTAMP:20260420T072455
CREATED:20250817T151350Z
LAST-MODIFIED:20250817T151440Z
UID:10008868-1760871600-1760874300@www.broadmoor.org
SUMMARY:Step Into Groups
DESCRIPTION:Step into Groups is a seamless way to connect with Broadmoor Baptist Church’s Life Groups. Join us following morning worship on Sunday\, August 24th\, in the worship center. This time features Pastor Josh Braddy\, Connections Pastor Harvey Ellis\, and Groups Pastor Jay Fletcher offering you insights on Broadmoor and how to get involved with Groups to take your next step. It’s a great opportunity to bridge to community without having to move too far from where you already are. Let’s step into this journey together!
URL:https://www.broadmoor.org/event/step-into-groups/2025-10-19/
LOCATION:Worship Center
CATEGORIES:Adults,Connections
ATTACH;FMTTYPE=image/jpeg:https://www.broadmoor.org/wp-content/uploads/2025/08/54264866858_75251cf3f8_k-e1755443668217.jpg
END:VEVENT
END:VCALENDAR