BEGIN:VCALENDAR
VERSION:2.0
PRODID:-//Broadmoor Baptist Church - ECPv6.15.20//NONSGML v1.0//EN
CALSCALE:GREGORIAN
METHOD:PUBLISH
X-WR-CALNAME:Broadmoor Baptist Church
X-ORIGINAL-URL:https://www.broadmoor.org
X-WR-CALDESC:Events for Broadmoor Baptist Church
REFRESH-INTERVAL;VALUE=DURATION:PT1H
X-Robots-Tag:noindex
X-PUBLISHED-TTL:PT1H
BEGIN:VTIMEZONE
TZID:America/Chicago
BEGIN:DAYLIGHT
TZOFFSETFROM:-0600
TZOFFSETTO:-0500
TZNAME:CDT
DTSTART:20250309T080000
END:DAYLIGHT
BEGIN:STANDARD
TZOFFSETFROM:-0500
TZOFFSETTO:-0600
TZNAME:CST
DTSTART:20251102T070000
END:STANDARD
BEGIN:DAYLIGHT
TZOFFSETFROM:-0600
TZOFFSETTO:-0500
TZNAME:CDT
DTSTART:20260308T080000
END:DAYLIGHT
BEGIN:STANDARD
TZOFFSETFROM:-0500
TZOFFSETTO:-0600
TZNAME:CST
DTSTART:20261101T070000
END:STANDARD
BEGIN:DAYLIGHT
TZOFFSETFROM:-0600
TZOFFSETTO:-0500
TZNAME:CDT
DTSTART:20270314T080000
END:DAYLIGHT
BEGIN:STANDARD
TZOFFSETFROM:-0500
TZOFFSETTO:-0600
TZNAME:CST
DTSTART:20271107T070000
END:STANDARD
END:VTIMEZONE
BEGIN:VEVENT
DTSTART;TZID=America/Chicago:20260428T083000
DTEND;TZID=America/Chicago:20260428T093000
DTSTAMP:20260422T051630
CREATED:20251222T225333Z
LAST-MODIFIED:20260212T180757Z
UID:10009540-1777365000-1777368600@www.broadmoor.org
SUMMARY:Moms in Prayer
DESCRIPTION:Moms in Prayer is a weekly meeting where mothers can gather to pray for their kids and schools. Led by Pattie Armstrong\, this meeting will take place every Tuesday from January 13th to May 18th\, 8:30-9:30 am in F100. We invite all mothers from across the Madison County community to join us as we seek to make a meaningful impact in the lives of our children and schools through prayer.
URL:https://www.broadmoor.org/event/moms-in-prayer-2/2026-04-28/
LOCATION:F100
CATEGORIES:Women
ATTACH;FMTTYPE=image/jpeg:https://www.broadmoor.org/wp-content/uploads/2025/12/DSC_0411-e1766525131410.jpg
END:VEVENT
BEGIN:VEVENT
DTSTART;TZID=America/Chicago:20260505T083000
DTEND;TZID=America/Chicago:20260505T093000
DTSTAMP:20260422T051630
CREATED:20251222T225333Z
LAST-MODIFIED:20260212T180757Z
UID:10009541-1777969800-1777973400@www.broadmoor.org
SUMMARY:Moms in Prayer
DESCRIPTION:Moms in Prayer is a weekly meeting where mothers can gather to pray for their kids and schools. Led by Pattie Armstrong\, this meeting will take place every Tuesday from January 13th to May 18th\, 8:30-9:30 am in F100. We invite all mothers from across the Madison County community to join us as we seek to make a meaningful impact in the lives of our children and schools through prayer.
URL:https://www.broadmoor.org/event/moms-in-prayer-2/2026-05-05/
LOCATION:F100
CATEGORIES:Women
ATTACH;FMTTYPE=image/jpeg:https://www.broadmoor.org/wp-content/uploads/2025/12/DSC_0411-e1766525131410.jpg
END:VEVENT
BEGIN:VEVENT
DTSTART;TZID=America/Chicago:20260512T083000
DTEND;TZID=America/Chicago:20260512T093000
DTSTAMP:20260422T051630
CREATED:20251222T225333Z
LAST-MODIFIED:20260212T180757Z
UID:10009542-1778574600-1778578200@www.broadmoor.org
SUMMARY:Moms in Prayer
DESCRIPTION:Moms in Prayer is a weekly meeting where mothers can gather to pray for their kids and schools. Led by Pattie Armstrong\, this meeting will take place every Tuesday from January 13th to May 18th\, 8:30-9:30 am in F100. We invite all mothers from across the Madison County community to join us as we seek to make a meaningful impact in the lives of our children and schools through prayer.
URL:https://www.broadmoor.org/event/moms-in-prayer-2/2026-05-12/
LOCATION:F100
CATEGORIES:Women
ATTACH;FMTTYPE=image/jpeg:https://www.broadmoor.org/wp-content/uploads/2025/12/DSC_0411-e1766525131410.jpg
END:VEVENT
BEGIN:VEVENT
DTSTART;TZID=America/Chicago:20260519T083000
DTEND;TZID=America/Chicago:20260519T093000
DTSTAMP:20260422T051630
CREATED:20251222T225333Z
LAST-MODIFIED:20260212T180757Z
UID:10009543-1779179400-1779183000@www.broadmoor.org
SUMMARY:Moms in Prayer
DESCRIPTION:Moms in Prayer is a weekly meeting where mothers can gather to pray for their kids and schools. Led by Pattie Armstrong\, this meeting will take place every Tuesday from January 13th to May 18th\, 8:30-9:30 am in F100. We invite all mothers from across the Madison County community to join us as we seek to make a meaningful impact in the lives of our children and schools through prayer.
URL:https://www.broadmoor.org/event/moms-in-prayer-2/2026-05-19/
LOCATION:F100
CATEGORIES:Women
ATTACH;FMTTYPE=image/jpeg:https://www.broadmoor.org/wp-content/uploads/2025/12/DSC_0411-e1766525131410.jpg
END:VEVENT
END:VCALENDAR