BEGIN:VCALENDAR
VERSION:2.0
PRODID:-//Broadmoor Baptist Church - ECPv6.15.20//NONSGML v1.0//EN
CALSCALE:GREGORIAN
METHOD:PUBLISH
X-WR-CALNAME:Broadmoor Baptist Church
X-ORIGINAL-URL:https://www.broadmoor.org
X-WR-CALDESC:Events for Broadmoor Baptist Church
REFRESH-INTERVAL;VALUE=DURATION:PT1H
X-Robots-Tag:noindex
X-PUBLISHED-TTL:PT1H
BEGIN:VTIMEZONE
TZID:America/Chicago
BEGIN:DAYLIGHT
TZOFFSETFROM:-0600
TZOFFSETTO:-0500
TZNAME:CDT
DTSTART:20250309T080000
END:DAYLIGHT
BEGIN:STANDARD
TZOFFSETFROM:-0500
TZOFFSETTO:-0600
TZNAME:CST
DTSTART:20251102T070000
END:STANDARD
BEGIN:DAYLIGHT
TZOFFSETFROM:-0600
TZOFFSETTO:-0500
TZNAME:CDT
DTSTART:20260308T080000
END:DAYLIGHT
BEGIN:STANDARD
TZOFFSETFROM:-0500
TZOFFSETTO:-0600
TZNAME:CST
DTSTART:20261101T070000
END:STANDARD
BEGIN:DAYLIGHT
TZOFFSETFROM:-0600
TZOFFSETTO:-0500
TZNAME:CDT
DTSTART:20270314T080000
END:DAYLIGHT
BEGIN:STANDARD
TZOFFSETFROM:-0500
TZOFFSETTO:-0600
TZNAME:CST
DTSTART:20271107T070000
END:STANDARD
END:VTIMEZONE
BEGIN:VEVENT
DTSTART;TZID=America/Chicago:20260611T090000
DTEND;TZID=America/Chicago:20260611T110000
DTSTAMP:20260422T083842
CREATED:20260225T163105Z
LAST-MODIFIED:20260226T224417Z
UID:10009673-1781168400-1781175600@www.broadmoor.org
SUMMARY:Playground Parties
DESCRIPTION:Playground Parties at Broadmoor Baptist Church are open play times for preschool families. Join us Thursday June 11th\, June 25th\, and July 16th from 9-11 am for a morning of play\, connection\, and fun. We’ll provide simple summer activities like bubbles\, chalk\, water games\, and treats. This is a great opportunity for you to connect with other families and build community. Mark your calendars and join the fun! Registration is requested so click HERE to register your family.
URL:https://www.broadmoor.org/event/playground-parties/2026-06-11/
CATEGORIES:NextGen,Preschool,PreschoolSummer,Summer
ATTACH;FMTTYPE=image/png:https://www.broadmoor.org/wp-content/uploads/2026/02/Event-Photo-9.png
END:VEVENT
BEGIN:VEVENT
DTSTART;TZID=America/Chicago:20260625T090000
DTEND;TZID=America/Chicago:20260625T110000
DTSTAMP:20260422T083842
CREATED:20260225T163105Z
LAST-MODIFIED:20260226T224417Z
UID:10009674-1782378000-1782385200@www.broadmoor.org
SUMMARY:Playground Parties
DESCRIPTION:Playground Parties at Broadmoor Baptist Church are open play times for preschool families. Join us Thursday June 11th\, June 25th\, and July 16th from 9-11 am for a morning of play\, connection\, and fun. We’ll provide simple summer activities like bubbles\, chalk\, water games\, and treats. This is a great opportunity for you to connect with other families and build community. Mark your calendars and join the fun! Registration is requested so click HERE to register your family.
URL:https://www.broadmoor.org/event/playground-parties/2026-06-25/
CATEGORIES:NextGen,Preschool,PreschoolSummer,Summer
ATTACH;FMTTYPE=image/png:https://www.broadmoor.org/wp-content/uploads/2026/02/Event-Photo-9.png
END:VEVENT
BEGIN:VEVENT
DTSTART;TZID=America/Chicago:20260716T090000
DTEND;TZID=America/Chicago:20260716T110000
DTSTAMP:20260422T083842
CREATED:20260225T163105Z
LAST-MODIFIED:20260226T224417Z
UID:10009675-1784192400-1784199600@www.broadmoor.org
SUMMARY:Playground Parties
DESCRIPTION:Playground Parties at Broadmoor Baptist Church are open play times for preschool families. Join us Thursday June 11th\, June 25th\, and July 16th from 9-11 am for a morning of play\, connection\, and fun. We’ll provide simple summer activities like bubbles\, chalk\, water games\, and treats. This is a great opportunity for you to connect with other families and build community. Mark your calendars and join the fun! Registration is requested so click HERE to register your family.
URL:https://www.broadmoor.org/event/playground-parties/2026-07-16/
CATEGORIES:NextGen,Preschool,PreschoolSummer,Summer
ATTACH;FMTTYPE=image/png:https://www.broadmoor.org/wp-content/uploads/2026/02/Event-Photo-9.png
END:VEVENT
END:VCALENDAR