BEGIN:VCALENDAR
VERSION:2.0
PRODID:-//Broadmoor Baptist Church - ECPv6.15.20//NONSGML v1.0//EN
CALSCALE:GREGORIAN
METHOD:PUBLISH
X-WR-CALNAME:Broadmoor Baptist Church
X-ORIGINAL-URL:https://www.broadmoor.org
X-WR-CALDESC:Events for Broadmoor Baptist Church
REFRESH-INTERVAL;VALUE=DURATION:PT1H
X-Robots-Tag:noindex
X-PUBLISHED-TTL:PT1H
BEGIN:VTIMEZONE
TZID:America/Chicago
BEGIN:DAYLIGHT
TZOFFSETFROM:-0600
TZOFFSETTO:-0500
TZNAME:CDT
DTSTART:20250309T080000
END:DAYLIGHT
BEGIN:STANDARD
TZOFFSETFROM:-0500
TZOFFSETTO:-0600
TZNAME:CST
DTSTART:20251102T070000
END:STANDARD
BEGIN:DAYLIGHT
TZOFFSETFROM:-0600
TZOFFSETTO:-0500
TZNAME:CDT
DTSTART:20260308T080000
END:DAYLIGHT
BEGIN:STANDARD
TZOFFSETFROM:-0500
TZOFFSETTO:-0600
TZNAME:CST
DTSTART:20261101T070000
END:STANDARD
BEGIN:DAYLIGHT
TZOFFSETFROM:-0600
TZOFFSETTO:-0500
TZNAME:CDT
DTSTART:20270314T080000
END:DAYLIGHT
BEGIN:STANDARD
TZOFFSETFROM:-0500
TZOFFSETTO:-0600
TZNAME:CST
DTSTART:20271107T070000
END:STANDARD
END:VTIMEZONE
BEGIN:VEVENT
DTSTART;TZID=America/Chicago:20260506T181500
DTEND;TZID=America/Chicago:20260506T193000
DTSTAMP:20260425T052842
CREATED:20251222T222241Z
LAST-MODIFIED:20260114T210836Z
UID:10009430-1778091300-1778095800@www.broadmoor.org
SUMMARY:5.1.7
DESCRIPTION:Join Middle School on Wednesday nights from 6:15-7:30 pm for a time of connection\, worship\, and bible teaching\, and practical application.
URL:https://www.broadmoor.org/event/5-1-7-2/2026-05-06/
LOCATION:Middle School 2nd Floor
CATEGORIES:Middle School,NextGen,Wednesdays Nextgen
ATTACH;FMTTYPE=image/jpeg:https://www.broadmoor.org/wp-content/uploads/2025/12/Image-5-e1768424903131.jpeg
END:VEVENT
BEGIN:VEVENT
DTSTART;TZID=America/Chicago:20260506T181500
DTEND;TZID=America/Chicago:20260506T193000
DTSTAMP:20260425T052842
CREATED:20251222T222027Z
LAST-MODIFIED:20251222T222043Z
UID:10009399-1778091300-1778095800@www.broadmoor.org
SUMMARY:Discovery
DESCRIPTION:During Discovery on Wednesday nights your child will visit 3 different rotations: Bible skills\, snack and music. During Bible Skills kids will discover what God says about who He is and how He loves us! It is a night full of fun and learning that your child will not want to miss!
URL:https://www.broadmoor.org/event/discovery-2/2026-05-06/
LOCATION:Kidtown
CATEGORIES:Kids,NextGen,Wednesdays Nextgen
ATTACH;FMTTYPE=image/jpeg:https://www.broadmoor.org/wp-content/uploads/2025/04/53138816589_f18c075e2e_k-e1745876366426.jpg
END:VEVENT
BEGIN:VEVENT
DTSTART;TZID=America/Chicago:20260506T181500
DTEND;TZID=America/Chicago:20260506T193000
DTSTAMP:20260425T052842
CREATED:20251222T221850Z
LAST-MODIFIED:20251222T221914Z
UID:10009366-1778091300-1778095800@www.broadmoor.org
SUMMARY:K4 & K5 Scriptures & Songs
DESCRIPTION:Join Preschool on Wednesday Nights from 6:15-7:30 pm for a fun evening filled with Bible stories\, music\, crafts\, and playtime as our youngest learners grow in their understanding of God’s love!
URL:https://www.broadmoor.org/event/k4-k5-scriptures-songs-2/2026-05-06/
LOCATION:Preschool
CATEGORIES:NextGen,Preschool,Wednesdays Nextgen
ATTACH;FMTTYPE=image/jpeg:https://www.broadmoor.org/wp-content/uploads/2025/07/53911007705_d3391c8639_k-e1754514787852.jpg
END:VEVENT
BEGIN:VEVENT
DTSTART;TZID=America/Chicago:20260506T181500
DTEND;TZID=America/Chicago:20260506T193000
DTSTAMP:20260425T052842
CREATED:20251222T221718Z
LAST-MODIFIED:20251222T221741Z
UID:10009335-1778091300-1778095800@www.broadmoor.org
SUMMARY:Choir Rehearsal
DESCRIPTION:Join Johann Acuña for Worship Choir Rehearsal at 6:15 pm in the Choir Suite. The choir is a passionate group of singers who help lead congregational worship in Sunday services and special gatherings throughout the year. Open to adults of all ages\, the choir is a place for those who love to sing and want to use their gifts to serve the Lord.
URL:https://www.broadmoor.org/event/choir-rehearsal/2026-05-06/
LOCATION:Choir Suite
CATEGORIES:Wednesdays
ATTACH;FMTTYPE=image/jpeg:https://www.broadmoor.org/wp-content/uploads/2025/08/1dd1b393-7305-4a61-9f32-6e37cfb03831-img_9380_53813811570_o-e1754334115726.jpg
END:VEVENT
BEGIN:VEVENT
DTSTART;TZID=America/Chicago:20260506T181500
DTEND;TZID=America/Chicago:20260506T193000
DTSTAMP:20260425T052842
CREATED:20251222T221601Z
LAST-MODIFIED:20251222T221613Z
UID:10009304-1778091300-1778095800@www.broadmoor.org
SUMMARY:Shelter Ministry Support Group
DESCRIPTION:The Shelter Ministry Support Group is for anyone involved in foster care or adoption. Come find a safe place to open up about the joys and challenges of the journey. You’ll find encouragement in knowing the others in the room understand you and are walking the same road!
URL:https://www.broadmoor.org/event/shelter-ministry-support-group-2/2026-05-06/
LOCATION:Love 206
CATEGORIES:Care,Shelter,Wednesdays Care
ATTACH;FMTTYPE=image/jpeg:https://www.broadmoor.org/wp-content/uploads/2025/07/sincerely-media-dGxOgeXAXm8-unsplash-1-scaled-e1754000823302.jpg
END:VEVENT
BEGIN:VEVENT
DTSTART;TZID=America/Chicago:20260506T181500
DTEND;TZID=America/Chicago:20260506T193000
DTSTAMP:20260425T052842
CREATED:20251222T221440Z
LAST-MODIFIED:20260305T211829Z
UID:10009273-1778091300-1778095800@www.broadmoor.org
SUMMARY:Men's Bible Study
DESCRIPTION:Join Jim McCay\, Jay Fletcher\, Rick Lachney\, and Brad Stubblefield on Wednesday Nights from 6:15 -7:30pm in the Community Room. For more information\, contact the Men’s Ministry at men@broadmoor.org or 601-898-2345.
URL:https://www.broadmoor.org/event/mens-bible-study-2/2026-05-06/
LOCATION:Community Room
CATEGORIES:Adults,Men,Wednesdays
ATTACH;FMTTYPE=image/jpeg:https://www.broadmoor.org/wp-content/uploads/2025/12/0f2de940-bf17-4603-869f-531a81cbabb3-8B5A0062__preview__.jpg
END:VEVENT
BEGIN:VEVENT
DTSTART;TZID=America/Chicago:20260506T181500
DTEND;TZID=America/Chicago:20260506T193000
DTSTAMP:20260425T052842
CREATED:20251222T200936Z
LAST-MODIFIED:20260108T212702Z
UID:10009058-1778091300-1778095800@www.broadmoor.org
SUMMARY:Single Moms Bible Study
DESCRIPTION:Join Pattie Armstrong & Sandra Horne as they study Motherhood Through God’s Perspective from 6:15-7:30 pm in L205. For more information\, contact the Women’s Ministry at women@broadmoor.org or 601-898-2345.
URL:https://www.broadmoor.org/event/single-moms-bible-study-2/2026-05-06/
CATEGORIES:Wednesdays,Women
ATTACH;FMTTYPE=image/png:https://www.broadmoor.org/wp-content/uploads/2025/07/SingleMomsStudy.png
END:VEVENT
BEGIN:VEVENT
DTSTART;TZID=America/Chicago:20260506T181500
DTEND;TZID=America/Chicago:20260506T193000
DTSTAMP:20260425T052842
CREATED:20251222T200649Z
LAST-MODIFIED:20260112T215359Z
UID:10009027-1778091300-1778095800@www.broadmoor.org
SUMMARY:Vicki Watson Women's Bible Study
DESCRIPTION:Vicki Watson & Laura Watrous lead an intergenerational group of women through Daniel: Lives of Integrity\, Words of Prophecy by Beth Moore. This group meets in Love 221 on campus each Wednesday night at 6:15 pm unless otherwise noted. For more information\, contact the Women’s Ministry at women@broadmoor.org or 601-898-2345.
URL:https://www.broadmoor.org/event/vicki-watson-womens-bible-study-2/2026-05-06/
LOCATION:Love 221
CATEGORIES:Wednesdays,Women
ATTACH;FMTTYPE=image/jpeg:https://www.broadmoor.org/wp-content/uploads/2024/07/53139027230_a12e9f43e7_k-2-e1722345785622.jpg
END:VEVENT
BEGIN:VEVENT
DTSTART;TZID=America/Chicago:20260505T100000
DTEND;TZID=America/Chicago:20260505T113000
DTSTAMP:20260425T052842
CREATED:20251222T202830Z
LAST-MODIFIED:20251222T202851Z
UID:10009234-1777975200-1777980600@www.broadmoor.org
SUMMARY:Sarah Perkins WMU Group
DESCRIPTION:Join Debbie Campbell on the 1st Tuesday of the month at 10am in L202/220 as they discuss missions in the Southern Baptist Church and how to support missionaries. For more information\, contact the Women’s Ministry at 601-898-2345 or women@broadmoor.org.
URL:https://www.broadmoor.org/event/sarah-perkins-wmu-group-3/2026-05-05/
CATEGORIES:Womens Missions
ATTACH;FMTTYPE=image/jpeg:https://www.broadmoor.org/wp-content/uploads/2025/01/Sarah_Perkins_WMU.jpg
END:VEVENT
BEGIN:VEVENT
DTSTART;TZID=America/Chicago:20260505T063000
DTEND;TZID=America/Chicago:20260505T073000
DTSTAMP:20260425T052842
CREATED:20260331T191134Z
LAST-MODIFIED:20260401T143723Z
UID:10009752-1777962600-1777966200@www.broadmoor.org
SUMMARY:Around the Table: Spring Small Group
DESCRIPTION:Join us for a 4-week small group experience designed specifically for men\, focusing on The Heart of A Man. We’ll be meeting at 6:30 am on the 3rd Floor Faith Building\, starting April 14th and running through May 5th. Don’t worry if you can’t make all the meetings\, just come when you can. This is a great opportunity to connect with others\, grow in your faith\, and be part of a community that’s all about living out our mission to know and be known. Sign up HERE and invite a friend to join you!
URL:https://www.broadmoor.org/event/around-the-table-spring-small-group/2026-05-05/
LOCATION:3rd Floor Faith
CATEGORIES:Adults,Men
ATTACH;FMTTYPE=image/png:https://www.broadmoor.org/wp-content/uploads/2026/03/Event-Photo-3.png
END:VEVENT
BEGIN:VEVENT
DTSTART;TZID=America/Chicago:20260504T113000
DTEND;TZID=America/Chicago:20260504T130000
DTSTAMP:20260425T052842
CREATED:20260420T211159Z
LAST-MODIFIED:20260420T211159Z
UID:10009823-1777894200-1777899600@www.broadmoor.org
SUMMARY:New Journey Lunch
DESCRIPTION:Join us on May 4th at 11:30 am in the Community Room for our New Journey Lunch\, a special event designed for widows in our church and community. This will be a wonderful opportunity to connect with others who understand your journey\, sing hymns with Maura McIntosh\, and enjoy a meal together for $6. We care about you and want to support you on your journey. Please invite a friend who might need some encouragement and join us as we care for one another. If you have any questions\, please reach out to Terri Phillips at tphillips@broadmoor.org.
URL:https://www.broadmoor.org/event/new-journey-lunch-5/
LOCATION:Community Room
CATEGORIES:Adults,Care,Seniors
ATTACH;FMTTYPE=image/png:https://www.broadmoor.org/wp-content/uploads/2025/12/Event-Photo.png
END:VEVENT
BEGIN:VEVENT
DTSTART;TZID=America/Chicago:20260502T163000
DTEND;TZID=America/Chicago:20260504T203000
DTSTAMP:20260425T052842
CREATED:20260210T161900Z
LAST-MODIFIED:20260210T161900Z
UID:10009663-1777739400-1777926600@www.broadmoor.org
SUMMARY:The Launch
DESCRIPTION:The Launch 2026 is a milestone event at Broadmoor Baptist Church\, where we honor our high school seniors for their accomplishment of graduating high school and ‘launch’ them into the next stage of life. This special weekend celebration includes a reception and family time on Saturday\, May 2nd at 4:30 pm\, a commissioning service on Sunday\, May 3rd\, during morning worship\, and a College Connection on Monday\, May 4\, at 6 pm. We invite you to join us as we celebrate these amazing students and mark this important milestone in their lives. Click HERE to register by March 25th!
URL:https://www.broadmoor.org/event/the-launch-2/
CATEGORIES:High School,NextGen
ATTACH;FMTTYPE=image/jpeg:https://www.broadmoor.org/wp-content/uploads/2026/02/7cc174d8-9b95-4105-ab24-6acb38e6f851-8B5A9374__preview__-e1770740330313.jpg
END:VEVENT
BEGIN:VEVENT
DTSTART;TZID=America/Chicago:20260430T110000
DTEND;TZID=America/Chicago:20260430T120000
DTSTAMP:20260425T052842
CREATED:20251222T202205Z
LAST-MODIFIED:20251222T202219Z
UID:10009208-1777546800-1777550400@www.broadmoor.org
SUMMARY:Shay Greenwood Bible Study
DESCRIPTION:Join Shay Greenwood online each week as she digs into Finding Freedom in Christ by Portia Collins. This is a great option for those that are on the go each week and need the flexibility of an online option. For more information contact the Women’s Ministry at women@broadmoor.org or call 601-898-2345.
URL:https://www.broadmoor.org/event/shay-greenwood-bible-study/2026-04-30/
CATEGORIES:Online,Women
ATTACH;FMTTYPE=image/png:https://www.broadmoor.org/wp-content/uploads/2024/08/ZoomBibleStudy.png
END:VEVENT
BEGIN:VEVENT
DTSTART;TZID=America/Chicago:20260427T190000
DTEND;TZID=America/Chicago:20260427T194500
DTSTAMP:20260425T052842
CREATED:20260201T142430Z
LAST-MODIFIED:20260201T142430Z
UID:10009648-1777316400-1777319100@www.broadmoor.org
SUMMARY:Parents Standing in the Gap
DESCRIPTION:Parents Standing In The Gap is a prayer support group for parents of adult children\, meeting on the last Monday of each month\, from January 27th to April\, in the Key Room at the Center for Hope and Healing\, from 7 to 7:45 pm. This group provides a safe and caring environment where parents can find hope and prayer support as they navigate the unique journey of parenting adult children. Our goal is to offer a space for connection\, support\, and prayer\, where parents can share their experiences and receive encouragement from one another. We believe that no parent should feel alone in their journey\, and we’re committed to walking alongside you in prayer and care.
URL:https://www.broadmoor.org/event/parents-standing-in-the-gap-2/2026-04-27/
LOCATION:Center for Hope and Healing\, 212 Key Drive\, Madison\, MS\, 39110\, United States
CATEGORIES:Care
ATTACH;FMTTYPE=image/png:https://www.broadmoor.org/wp-content/uploads/2026/01/Event-Photo-1.png
END:VEVENT
BEGIN:VEVENT
DTSTART;TZID=America/Chicago:20260424T180000
DTEND;TZID=America/Chicago:20260424T200000
DTSTAMP:20260425T052842
CREATED:20260330T202329Z
LAST-MODIFIED:20260401T142755Z
UID:10009748-1777053600-1777060800@www.broadmoor.org
SUMMARY:Friday Night Fellowship
DESCRIPTION:Friday Night Fellowship is a fun and exciting event for middle school students grades 6th-8th to connect with friends\, make new ones\, and have a blast! Join us on April 24th from 6-8 pm in the Middle School Area for a night of games\, food\, and friends. This event is completely free and open to all Middle School students in grades 6th-8th. Sign up HERE and invite a friend to join in on the fun. We can’t wait to see you there!
URL:https://www.broadmoor.org/event/friday-night-fellowship-10/
LOCATION:Gym
CATEGORIES:Middle School,NextGen
ATTACH;FMTTYPE=image/png:https://www.broadmoor.org/wp-content/uploads/2026/03/Event-Photo-2-1.png
END:VEVENT
BEGIN:VEVENT
DTSTART;TZID=America/Chicago:20260422T181500
DTEND;TZID=America/Chicago:20260422T193000
DTSTAMP:20260425T052842
CREATED:20260414T152340Z
LAST-MODIFIED:20260414T152604Z
UID:10009822-1776881700-1776886200@www.broadmoor.org
SUMMARY:Life Matters: Exploring Adoption
DESCRIPTION:You’re invited to explore the possibility of adoption and how it can be a part of your family’s story. Join us on Wednesday\, April 22nd\, from 6:15 to 7:30 pm in the Chapel. This is a great opportunity to hear from other couples who have adopted and get your questions answered.
URL:https://www.broadmoor.org/event/life-matters-exploring-adoption/
LOCATION:Chapel
CATEGORIES:Shelter,Wednesdays
ATTACH;FMTTYPE=image/png:https://www.broadmoor.org/wp-content/uploads/2026/04/Photo.png
END:VEVENT
BEGIN:VEVENT
DTSTART;TZID=America/Chicago:20260422T093000
DTEND;TZID=America/Chicago:20260422T113000
DTSTAMP:20260425T052842
CREATED:20251222T200403Z
LAST-MODIFIED:20260112T213138Z
UID:10008996-1776850200-1776857400@www.broadmoor.org
SUMMARY:Sisters In Christ Bible Study
DESCRIPTION:Diane Smith & Melinda Hendrix will lead this Women’s Ministry study this fall as they look at the Book of Matthew at 9:30 am in F100. For more information\, contact the Women’s Ministry at 601-898-2345 or women@broadmoor.org.
URL:https://www.broadmoor.org/event/sisters-in-christ-bible-study-2/2026-04-22/
LOCATION:F100
CATEGORIES:Women
ATTACH;FMTTYPE=image/jpeg:https://www.broadmoor.org/wp-content/uploads/2025/07/SistersInChrist.jpg
END:VEVENT
BEGIN:VEVENT
DTSTART;TZID=America/Chicago:20260418T080000
DTEND;TZID=America/Chicago:20260418T123000
DTSTAMP:20260425T052842
CREATED:20260114T221232Z
LAST-MODIFIED:20260114T222017Z
UID:10009629-1776499200-1776515400@www.broadmoor.org
SUMMARY:Lifeway Women's Feast Conference
DESCRIPTION:Feast Women’s Conference is an event where we gather to feast on God’s Word through Bible teaching with Kristi McLelland and worship with Laura Cooksey. This is more than just an event – it’s an experience to taste and see the goodness of God. Join us on April 17th-18th and take your seat at the table! Register HERE!
URL:https://www.broadmoor.org/event/lifeway-womens-feast-conference/2026-04-18/
CATEGORIES:Women
ATTACH;FMTTYPE=image/png:https://www.broadmoor.org/wp-content/uploads/2026/01/Screenshot-2026-01-14-at-4.19.12-PM.png
END:VEVENT
BEGIN:VEVENT
DTSTART;TZID=America/Chicago:20260415T181500
DTEND;TZID=America/Chicago:20260415T201500
DTSTAMP:20260425T052842
CREATED:20260112T200611Z
LAST-MODIFIED:20260112T202119Z
UID:10009607-1776276900-1776284100@www.broadmoor.org
SUMMARY:DivorceCare
DESCRIPTION:DivorceCare is a supportive and caring 13-week group program at Broadmoor Baptist Church\, designed to help individuals navigate through the grief and challenges resulting from separation or divorce. Beginning on January 14th\, from 6:15 to 8:15 pm\, attendees can meet weekly in rooms L211/212\, where they will find a compassionate community and guidance rooted in biblical truth. Our church’s mission and vision drive us to pursue reconciliation and live generously\, creating a nurturing space for healing. We invite you to join this journey of recovery and growth. Register HERE.
URL:https://www.broadmoor.org/event/divorcecare-4/2026-04-15/
LOCATION:Love 211/212
CATEGORIES:Care,Wednesdays Care
ATTACH;FMTTYPE=image/png:https://www.broadmoor.org/wp-content/uploads/2025/07/Event-Photo_-3.png
END:VEVENT
BEGIN:VEVENT
DTSTART;TZID=America/Chicago:20260415T181500
DTEND;TZID=America/Chicago:20260415T201500
DTSTAMP:20260425T052842
CREATED:20260112T200033Z
LAST-MODIFIED:20260112T202156Z
UID:10009622-1776276900-1776284100@www.broadmoor.org
SUMMARY:GriefShare
DESCRIPTION:At Broadmoor\, GriefShare offers a gentle path of healing through its 13-week support group. Beginning January 14th\, meet others every Wednesday evening from 6:15 to 8:15 pm in Rooms L209/210 as they journey through healing with videos\, discussions\, and workbook activities\, all crafted to offer solace and understanding in community. The program fee of $20 ensures you have access to the workbook that will guide you in finding hope and peace. Whether you’re in mourning or supporting a loved one\, GriefShare stands as a beacon of God’s love and comfort. Register HERE.
URL:https://www.broadmoor.org/event/griefshare-4/2026-04-15/
LOCATION:Love 209/210
CATEGORIES:Care,Wednesdays Care
ATTACH;FMTTYPE=image/png:https://www.broadmoor.org/wp-content/uploads/2025/07/Event-Photo_-4.png
END:VEVENT
BEGIN:VEVENT
DTSTART;TZID=America/Chicago:20260415T181500
DTEND;TZID=America/Chicago:20260415T193000
DTSTAMP:20260425T052842
CREATED:20260331T193842Z
LAST-MODIFIED:20260401T150520Z
UID:10009806-1776276900-1776281400@www.broadmoor.org
SUMMARY:Life Matters: Stronger Together
DESCRIPTION:Life Matters: Stronger Together is a two-week class hosted by Broadmoor’s Grace Ministry in partnership with Quiet Waters. These nights are designed to bring encouragement and support to families with special needs\, and we want you to be there. On April 8th\, we’ll discuss the unique challenges of being a family member and caregiver\, and provide support and encouragement. On April 15th\, we’ll offer practical tools and resources to help families navigate their next steps. Join us in the Chapel at 6:15 pm for an evening of hope and connection. \nIf you’re planning to bring your child with special needs\, please email pcrowe@broadmoor.org so we can make arrangements for their care.
URL:https://www.broadmoor.org/event/life-matters-stronger-together/2026-04-15/
LOCATION:Chapel
CATEGORIES:Grace,Wednesdays Care
ATTACH;FMTTYPE=image/png:https://www.broadmoor.org/wp-content/uploads/2026/03/Photo.png
END:VEVENT
BEGIN:VEVENT
DTSTART;TZID=America/Chicago:20260415T181500
DTEND;TZID=America/Chicago:20260415T193000
DTSTAMP:20260425T052842
CREATED:20251222T203011Z
LAST-MODIFIED:20251222T203011Z
UID:10009242-1776276900-1776281400@www.broadmoor.org
SUMMARY:Women's Heart for Missions WMU Group
DESCRIPTION:Join Regina Powell on the 3rd Wednesday of the month at 6:15 pm in the Hangar as they discuss missions in the Southern Baptist Church and how to support missionaries. For more information\, contact the Women’s Ministry at 601-898-2345 or women@broadmoor.org.
URL:https://www.broadmoor.org/event/womens-heart-for-missions-wmu-group/2026-04-15/
LOCATION:The Hangar
CATEGORIES:Adults,Wednesdays,Womens Missions
ATTACH;FMTTYPE=image/jpeg:https://www.broadmoor.org/wp-content/uploads/2025/08/54023116086_a6b7f35b4a_k-e1754515344863.jpg
END:VEVENT
BEGIN:VEVENT
DTSTART;TZID=America/Chicago:20260412T123000
DTEND;TZID=America/Chicago:20260412T133000
DTSTAMP:20260425T052842
CREATED:20260312T194557Z
LAST-MODIFIED:20260323T165220Z
UID:10009743-1775997000-1776000600@www.broadmoor.org
SUMMARY:New Member Luncheon
DESCRIPTION:New Member Luncheon with the Pastor and staff for all new members who have been affirmed since January\, at 12:30 pm on Sunday\, April 12th. Childcare provided. This is a great opportunity to connect with other new members\, build relationships\, and get more info about our church community. For more information\, contact connections@broadmoor.org.
URL:https://www.broadmoor.org/event/new-member-luncheon/
CATEGORIES:Connections
ATTACH;FMTTYPE=image/jpeg:https://www.broadmoor.org/wp-content/uploads/2026/03/54407239577_d82565f09d_k-1-e1756998768435.jpg
END:VEVENT
BEGIN:VEVENT
DTSTART;TZID=America/Chicago:20260412T120000
DTEND;TZID=America/Chicago:20260412T130000
DTSTAMP:20260425T052842
CREATED:20260324T195117Z
LAST-MODIFIED:20260324T195117Z
UID:10009744-1775995200-1775998800@www.broadmoor.org
SUMMARY:Belize Missions Interest Meeting
DESCRIPTION:Broadmoor will host a Belize Mission Trip Interest Meeting on Sunday\, April 12th at noon in F100 for those interested in joining a mission team traveling to Belize City\, Belize\, August 1st-8th\, 2026. The team will serve alongside our partner\, Strategic Impact International\, assisting with evangelism and the discipling of new believers. Anyone interested in learning more about this opportunity and trip details is encouraged to attend the meeting.
URL:https://www.broadmoor.org/event/belize/
LOCATION:F100
CATEGORIES:Missions
ATTACH;FMTTYPE=image/png:https://www.broadmoor.org/wp-content/uploads/2026/03/Belieze-Event-Photo.png
END:VEVENT
BEGIN:VEVENT
DTSTART;TZID=America/Chicago:20260412T093000
DTEND;TZID=America/Chicago:20260412T103000
DTSTAMP:20260425T052842
CREATED:20260216T224442Z
LAST-MODIFIED:20260217T170233Z
UID:10009665-1775986200-1775989800@www.broadmoor.org
SUMMARY:The Commitment
DESCRIPTION:The Commitment is a special NextGen milestone designed for families to publicly dedicate themselves to raising their children in the loving guidance of Biblical wisdom. This ceremony\, held during Worship on April 12th\, is a powerful affirmation of your commitment to nurturing your little ones and guiding them to glorify God. To participate\, parents must attend at least one of the two classes on March 18th or March 25th from 6:15-7:15 pm in the Gathering Room. Register HERE by March 20th!
URL:https://www.broadmoor.org/event/the-commitment-6/
LOCATION:Worship Center
CATEGORIES:NextGen,Preschool
ATTACH;FMTTYPE=image/png:https://www.broadmoor.org/wp-content/uploads/2026/02/Event-Photo-2-1.png
END:VEVENT
BEGIN:VEVENT
DTSTART;TZID=America/Chicago:20260407T183000
DTEND;TZID=America/Chicago:20260407T200000
DTSTAMP:20260425T052842
CREATED:20260127T205910Z
LAST-MODIFIED:20260127T205910Z
UID:10009642-1775586600-1775592000@www.broadmoor.org
SUMMARY:Hope Awaits Support Group
DESCRIPTION:Hope Awaits is a support group for women struggling with infertility and pregnancy loss\, meeting on the first Tuesday of every month from 6:30 to 8 pm at the Center for Hope and Healing on Key Drive in Madison. Our community is a safe and caring space to share your story\, find connection\, and discover hope.
URL:https://www.broadmoor.org/event/hope-awaits-support-group/2026-04-07/
LOCATION:Center for Hope and Healing\, 212 Key Drive\, Madison\, MS\, 39110\, United States
CATEGORIES:Care
ATTACH;FMTTYPE=image/png:https://www.broadmoor.org/wp-content/uploads/2026/01/Event-Photo.png
END:VEVENT
BEGIN:VEVENT
DTSTART;TZID=America/Chicago:20260407T063000
DTEND;TZID=America/Chicago:20260407T073000
DTSTAMP:20260425T052842
CREATED:20260216T174509Z
LAST-MODIFIED:20260216T174509Z
UID:10009664-1775543400-1775547000@www.broadmoor.org
SUMMARY:Men's Around the Table Breakfast
DESCRIPTION:Around The Table is a gathering for men to connect\, be encouraged\, and grow in their faith. Join us on April 7th from 6:30-7:30 am on the 3rd Floor of the Faith Building for breakfast\, a message from Pastor Josh\, and discussion. Feel free to bring your sons along! We’ll have Chick-fil-A and wrap up in time for you to head to work or school. RSVP HERE by April 5th at 2 pm to ensure we have enough food for everyone.
URL:https://www.broadmoor.org/event/mens-around-the-table-breakfast-2/
LOCATION:3rd Floor Faith
CATEGORIES:Adults,Men
ATTACH;FMTTYPE=image/png:https://www.broadmoor.org/wp-content/uploads/2026/02/Event-Photo-2.png
END:VEVENT
BEGIN:VEVENT
DTSTART;TZID=America/Chicago:20260405T110000
DTEND;TZID=America/Chicago:20260405T120000
DTSTAMP:20260425T052842
CREATED:20260326T211917Z
LAST-MODIFIED:20260326T211917Z
UID:10009747-1775386800-1775390400@www.broadmoor.org
SUMMARY:Easter Services
DESCRIPTION:Join us for our Easter Weekend Worship services at Broadmoor Baptist Church! We’re excited to come together as a community to celebrate the risen King. We have three services planned: Saturday\, April 4th at 6 pm\, and Sunday\, April 5th at 9:30 am and 11 am. Childcare will be available for birth-3 years old\, and no reservations are needed. This is a great opportunity to bring your family and friends to worship with us.
URL:https://www.broadmoor.org/event/easter-services/2026-04-05/2/
LOCATION:Worship Center
CATEGORIES:Easter
ATTACH;FMTTYPE=image/jpeg:https://www.broadmoor.org/wp-content/uploads/2026/03/263910ba-436f-4b9c-a13c-41176b41a706-8B5A9098__preview__-e1774559946489.jpg
END:VEVENT
BEGIN:VEVENT
DTSTART;TZID=America/Chicago:20260329T093000
DTEND;TZID=America/Chicago:20260329T103000
DTSTAMP:20260425T052842
CREATED:20260301T172539Z
LAST-MODIFIED:20260301T172539Z
UID:10009682-1774776600-1774780200@www.broadmoor.org
SUMMARY:Palm Sunday at Broadmoor
DESCRIPTION:Palm Sunday at Broadmoor is a special worship service featuring The Journey\, a dramatic interpretation of Jesus’ life\, death\, burial\, and resurrection\, presented by The Messengers\, our High School Drama troupe. The service will also include music from our Kids Ministry and Preschool Ministry choirs. Join us on March 29th at 9:30 am as we celebrate the beginning of Holy Week together!
URL:https://www.broadmoor.org/event/palm-sunday-at-broadmoor/
LOCATION:Worship Center
CATEGORIES:Easter
ATTACH;FMTTYPE=image/jpeg:https://www.broadmoor.org/wp-content/uploads/2026/03/ed181ff0-400a-47ed-acab-80da450db2dd-8B5A8958__preview__-e1772385931111.jpg
END:VEVENT
BEGIN:VEVENT
DTSTART;TZID=America/Chicago:20260328T090000
DTEND;TZID=America/Chicago:20260328T110000
DTSTAMP:20260425T052842
CREATED:20260301T144712Z
LAST-MODIFIED:20260301T144712Z
UID:10009681-1774688400-1774695600@www.broadmoor.org
SUMMARY:Easter Egg Hunt
DESCRIPTION:Join us for an unforgettable morning of Easter excitement at our annual Easter Egg Hunt\, held in partnership with Madison the City. The event will take place on March 28th from 9-11 am at Liberty Park in Madison\, and is designed for children from birth to 8 years old. Enjoy a variety of activities\, including games\, refreshments\, a train\, and of course\, the Easter egg hunt! This event is completely free and open to the entire community\, so mark your calendars and bring your family for a fun and memorable experience.
URL:https://www.broadmoor.org/event/easter-egg-hunt-2/
LOCATION:Liberty Park
CATEGORIES:Easter,Kids,NextGen,Preschool
ATTACH;FMTTYPE=image/png:https://www.broadmoor.org/wp-content/uploads/2026/03/Event-Photo.png
END:VEVENT
END:VCALENDAR