BEGIN:VCALENDAR
VERSION:2.0
PRODID:-//Broadmoor Baptist Church - ECPv6.15.20//NONSGML v1.0//EN
CALSCALE:GREGORIAN
METHOD:PUBLISH
X-ORIGINAL-URL:https://www.broadmoor.org
X-WR-CALDESC:Events for Broadmoor Baptist Church
REFRESH-INTERVAL;VALUE=DURATION:PT1H
X-Robots-Tag:noindex
X-PUBLISHED-TTL:PT1H
BEGIN:VTIMEZONE
TZID:America/Chicago
BEGIN:DAYLIGHT
TZOFFSETFROM:-0600
TZOFFSETTO:-0500
TZNAME:CDT
DTSTART:20250309T080000
END:DAYLIGHT
BEGIN:STANDARD
TZOFFSETFROM:-0500
TZOFFSETTO:-0600
TZNAME:CST
DTSTART:20251102T070000
END:STANDARD
BEGIN:DAYLIGHT
TZOFFSETFROM:-0600
TZOFFSETTO:-0500
TZNAME:CDT
DTSTART:20260308T080000
END:DAYLIGHT
BEGIN:STANDARD
TZOFFSETFROM:-0500
TZOFFSETTO:-0600
TZNAME:CST
DTSTART:20261101T070000
END:STANDARD
BEGIN:DAYLIGHT
TZOFFSETFROM:-0600
TZOFFSETTO:-0500
TZNAME:CDT
DTSTART:20270314T080000
END:DAYLIGHT
BEGIN:STANDARD
TZOFFSETFROM:-0500
TZOFFSETTO:-0600
TZNAME:CST
DTSTART:20271107T070000
END:STANDARD
END:VTIMEZONE
BEGIN:VEVENT
DTSTART;TZID=America/Chicago:20260415T181500
DTEND;TZID=America/Chicago:20260415T193000
DTSTAMP:20260419T231807
CREATED:20251222T221601Z
LAST-MODIFIED:20251222T221613Z
UID:10009301-1776276900-1776281400@www.broadmoor.org
SUMMARY:Shelter Ministry Support Group
DESCRIPTION:The Shelter Ministry Support Group is for anyone involved in foster care or adoption. Come find a safe place to open up about the joys and challenges of the journey. You’ll find encouragement in knowing the others in the room understand you and are walking the same road!
URL:https://www.broadmoor.org/event/shelter-ministry-support-group-2/2026-04-15/
LOCATION:Love 206
CATEGORIES:Care,Shelter,Wednesdays Care
ATTACH;FMTTYPE=image/jpeg:https://www.broadmoor.org/wp-content/uploads/2025/07/sincerely-media-dGxOgeXAXm8-unsplash-1-scaled-e1754000823302.jpg
END:VEVENT
BEGIN:VEVENT
DTSTART;TZID=America/Chicago:20260415T181500
DTEND;TZID=America/Chicago:20260415T193000
DTSTAMP:20260419T231807
CREATED:20251222T221440Z
LAST-MODIFIED:20260305T211829Z
UID:10009270-1776276900-1776281400@www.broadmoor.org
SUMMARY:Men's Bible Study
DESCRIPTION:Join Jim McCay\, Jay Fletcher\, Rick Lachney\, and Brad Stubblefield on Wednesday Nights from 6:15 -7:30pm in the Community Room. For more information\, contact the Men’s Ministry at men@broadmoor.org or 601-898-2345.
URL:https://www.broadmoor.org/event/mens-bible-study-2/2026-04-15/
LOCATION:Community Room
CATEGORIES:Adults,Men,Wednesdays
ATTACH;FMTTYPE=image/jpeg:https://www.broadmoor.org/wp-content/uploads/2025/12/0f2de940-bf17-4603-869f-531a81cbabb3-8B5A0062__preview__.jpg
END:VEVENT
BEGIN:VEVENT
DTSTART;TZID=America/Chicago:20260415T181500
DTEND;TZID=America/Chicago:20260415T193000
DTSTAMP:20260419T231807
CREATED:20251222T203011Z
LAST-MODIFIED:20251222T203011Z
UID:10009242-1776276900-1776281400@www.broadmoor.org
SUMMARY:Women's Heart for Missions WMU Group
DESCRIPTION:Join Regina Powell on the 3rd Wednesday of the month at 6:15 pm in the Hangar as they discuss missions in the Southern Baptist Church and how to support missionaries. For more information\, contact the Women’s Ministry at 601-898-2345 or women@broadmoor.org.
URL:https://www.broadmoor.org/event/womens-heart-for-missions-wmu-group/2026-04-15/
LOCATION:The Hangar
CATEGORIES:Adults,Wednesdays,Womens Missions
ATTACH;FMTTYPE=image/jpeg:https://www.broadmoor.org/wp-content/uploads/2025/08/54023116086_a6b7f35b4a_k-e1754515344863.jpg
END:VEVENT
BEGIN:VEVENT
DTSTART;TZID=America/Chicago:20260415T181500
DTEND;TZID=America/Chicago:20260415T193000
DTSTAMP:20260419T231807
CREATED:20251222T201243Z
LAST-MODIFIED:20260112T215548Z
UID:10009085-1776276900-1776281400@www.broadmoor.org
SUMMARY:Wednesdays Precept Bible Study
DESCRIPTION:Join Dodie Offerman\, Barbara Gross\, & Melinda Hendrix as they study the books of 2 Samuel\, Kings\, and Prophets 1 & 2 using the Precept Ministries model of learning scripture and content at 6:15 pm in L201/203. For more information\, contact the Women’s Ministry at women@broadmoor.org or 601-898-2345.
URL:https://www.broadmoor.org/event/precept-bible-study-2/2026-04-15/
LOCATION:Love 201/203\, 1531 Highland Colony Parkway\, Madison\, MS\, 39110\, United States
CATEGORIES:Wednesdays,Women
ATTACH;FMTTYPE=image/jpeg:https://www.broadmoor.org/wp-content/uploads/2025/12/10756eab-09a2-4ab6-9923-4e6f3fdcfd90-8B5A0911__preview__-e1768254685204.jpg
END:VEVENT
BEGIN:VEVENT
DTSTART;TZID=America/Chicago:20260415T181500
DTEND;TZID=America/Chicago:20260415T193000
DTSTAMP:20260419T231807
CREATED:20251222T200936Z
LAST-MODIFIED:20260108T212702Z
UID:10009055-1776276900-1776281400@www.broadmoor.org
SUMMARY:Single Moms Bible Study
DESCRIPTION:Join Pattie Armstrong & Sandra Horne as they study Motherhood Through God’s Perspective from 6:15-7:30 pm in L205. For more information\, contact the Women’s Ministry at women@broadmoor.org or 601-898-2345.
URL:https://www.broadmoor.org/event/single-moms-bible-study-2/2026-04-15/
CATEGORIES:Wednesdays,Women
ATTACH;FMTTYPE=image/png:https://www.broadmoor.org/wp-content/uploads/2025/07/SingleMomsStudy.png
END:VEVENT
BEGIN:VEVENT
DTSTART;TZID=America/Chicago:20260415T181500
DTEND;TZID=America/Chicago:20260415T193000
DTSTAMP:20260419T231807
CREATED:20251222T200649Z
LAST-MODIFIED:20260112T215359Z
UID:10009024-1776276900-1776281400@www.broadmoor.org
SUMMARY:Vicki Watson Women's Bible Study
DESCRIPTION:Vicki Watson & Laura Watrous lead an intergenerational group of women through Daniel: Lives of Integrity\, Words of Prophecy by Beth Moore. This group meets in Love 221 on campus each Wednesday night at 6:15 pm unless otherwise noted. For more information\, contact the Women’s Ministry at women@broadmoor.org or 601-898-2345.
URL:https://www.broadmoor.org/event/vicki-watson-womens-bible-study-2/2026-04-15/
LOCATION:Love 221
CATEGORIES:Wednesdays,Women
ATTACH;FMTTYPE=image/jpeg:https://www.broadmoor.org/wp-content/uploads/2024/07/53139027230_a12e9f43e7_k-2-e1722345785622.jpg
END:VEVENT
BEGIN:VEVENT
DTSTART;TZID=America/Chicago:20260415T093000
DTEND;TZID=America/Chicago:20260415T113000
DTSTAMP:20260419T231807
CREATED:20251222T200403Z
LAST-MODIFIED:20260112T213138Z
UID:10008995-1776245400-1776252600@www.broadmoor.org
SUMMARY:Sisters In Christ Bible Study
DESCRIPTION:Diane Smith & Melinda Hendrix will lead this Women’s Ministry study this fall as they look at the Book of Matthew at 9:30 am in F100. For more information\, contact the Women’s Ministry at 601-898-2345 or women@broadmoor.org.
URL:https://www.broadmoor.org/event/sisters-in-christ-bible-study-2/2026-04-15/
LOCATION:F100
CATEGORIES:Women
ATTACH;FMTTYPE=image/jpeg:https://www.broadmoor.org/wp-content/uploads/2025/07/SistersInChrist.jpg
END:VEVENT
BEGIN:VEVENT
DTSTART;TZID=America/Chicago:20260414T180000
DTEND;TZID=America/Chicago:20260414T193000
DTSTAMP:20260419T231807
CREATED:20260309T190627Z
LAST-MODIFIED:20260309T203840Z
UID:10009691-1776189600-1776195000@www.broadmoor.org
SUMMARY:Men's Tuesday Night Small Group
DESCRIPTION:Our Men’s Tuesday Small Group is an open group where men can attend to find community and fellowship with other men from Broadmoor and our community. We meet every Tuesday from 6-7:30 pm in F100. This group is designed to be an entry-level group for men to explore groups and find community. Join us and invite a friend to be part of this new community!
URL:https://www.broadmoor.org/event/mens-tuesday-night-small-group/2026-04-14/
LOCATION:F100
CATEGORIES:Men
ATTACH;FMTTYPE=image/png:https://www.broadmoor.org/wp-content/uploads/2026/03/Event-Photo-2.png
END:VEVENT
BEGIN:VEVENT
DTSTART;TZID=America/Chicago:20260414T093000
DTEND;TZID=America/Chicago:20260414T103000
DTSTAMP:20260419T231807
CREATED:20250720T224455Z
LAST-MODIFIED:20260407T204626Z
UID:10008887-1776159000-1776162600@www.broadmoor.org
SUMMARY:Rebecca Williams WMU Group
DESCRIPTION:Join Lois McMullan in the Gathering Room (previously the Fireside Room) at 9:30 am on the 2nd Tuesday each month as she facilitates a conversation about missions\, the missionaries on the field\, and ways to support them. For more information\, contact the Women’s Ministry at 601-898-2345 or women@broadmoor.org.
URL:https://www.broadmoor.org/event/rebecca-williams-wmu-group/2026-04-14/
LOCATION:Gathering Room
CATEGORIES:Womens Missions
ATTACH;FMTTYPE=image/jpeg:https://www.broadmoor.org/wp-content/uploads/2024/11/centre-for-ageing-better-IUFueyLiB2s-unsplash-scaled-e1722871157930.jpg
END:VEVENT
BEGIN:VEVENT
DTSTART;TZID=America/Chicago:20260414T083000
DTEND;TZID=America/Chicago:20260414T093000
DTSTAMP:20260419T231807
CREATED:20251222T225333Z
LAST-MODIFIED:20260212T180757Z
UID:10009538-1776155400-1776159000@www.broadmoor.org
SUMMARY:Moms in Prayer
DESCRIPTION:Moms in Prayer is a weekly meeting where mothers can gather to pray for their kids and schools. Led by Pattie Armstrong\, this meeting will take place every Tuesday from January 13th to May 18th\, 8:30-9:30 am in F100. We invite all mothers from across the Madison County community to join us as we seek to make a meaningful impact in the lives of our children and schools through prayer.
URL:https://www.broadmoor.org/event/moms-in-prayer-2/2026-04-14/
LOCATION:F100
CATEGORIES:Women
ATTACH;FMTTYPE=image/jpeg:https://www.broadmoor.org/wp-content/uploads/2025/12/DSC_0411-e1766525131410.jpg
END:VEVENT
BEGIN:VEVENT
DTSTART;TZID=America/Chicago:20260414T063000
DTEND;TZID=America/Chicago:20260414T073000
DTSTAMP:20260419T231807
CREATED:20260331T191134Z
LAST-MODIFIED:20260401T143723Z
UID:10009749-1776148200-1776151800@www.broadmoor.org
SUMMARY:Around the Table: Spring Small Group
DESCRIPTION:Join us for a 4-week small group experience designed specifically for men\, focusing on The Heart of A Man. We’ll be meeting at 6:30 am on the 3rd Floor Faith Building\, starting April 14th and running through May 5th. Don’t worry if you can’t make all the meetings\, just come when you can. This is a great opportunity to connect with others\, grow in your faith\, and be part of a community that’s all about living out our mission to know and be known. Sign up HERE and invite a friend to join you!
URL:https://www.broadmoor.org/event/around-the-table-spring-small-group/2026-04-14/
LOCATION:3rd Floor Faith
CATEGORIES:Adults,Men
ATTACH;FMTTYPE=image/png:https://www.broadmoor.org/wp-content/uploads/2026/03/Event-Photo-3.png
END:VEVENT
BEGIN:VEVENT
DTSTART;TZID=America/Chicago:20260413T180000
DTEND;TZID=America/Chicago:20260413T193000
DTSTAMP:20260419T231807
CREATED:20251007T142707Z
LAST-MODIFIED:20251007T154218Z
UID:10008923-1776103200-1776108600@www.broadmoor.org
SUMMARY:Alzheimer's/Dementia Support Group
DESCRIPTION:If you’re a caregiver for someone with Alzheimer’s or another form of dementia\, you don’t have to walk this journey alone. Join leaders Jane Goff and Karen Rothe each month in the Gathering Room for a time of encouragement\, learning\, and connection with others who understand. \nThe group meets on the second Monday of each month from 6:00 to 7:30 pm. Each session begins with a 30-minute guest speaker or discussion leader\, followed by open conversation\, Q&A\, and fellowship. Speakers are selected based on the group’s developing needs\, offering relevant and practical insight for caregivers. \nThis group is open to caregivers only to ensure a safe and focused environment. All dementia caregivers are welcome—whether you’re caring for someone with Alzheimer’s\, Parkinson’s\, Lewy Body\, stroke-related dementia\, or another form of memory loss. \nFor more information\, please reach out to dementia@broadmoor.org.
URL:https://www.broadmoor.org/event/alzheimers-dementia-support-group/2026-04-13/
LOCATION:Gathering Room
CATEGORIES:Care
ATTACH;FMTTYPE=image/jpeg:https://www.broadmoor.org/wp-content/uploads/2025/10/omid-WOfPQHSgb1Y-unsplash-scaled.jpg
END:VEVENT
BEGIN:VEVENT
DTSTART;TZID=America/Chicago:20260413T120000
DTEND;TZID=America/Chicago:20260413T130000
DTSTAMP:20260419T231807
CREATED:20251222T202637Z
LAST-MODIFIED:20260112T214536Z
UID:10009226-1776081600-1776085200@www.broadmoor.org
SUMMARY:Women in Action WMU Group
DESCRIPTION:Join Barbara Mangrum in L221 at 12 pm on the 2nd Monday of each month as the Women In Action look at missions around the world and how they can support those on mission. For more information\, contact the Women’s Ministry at 601-898-2345 or women@broadmoor.org.
URL:https://www.broadmoor.org/event/women-in-action-wmu-group/2026-04-13/
LOCATION:Love 221
CATEGORIES:Womens Missions
ATTACH;FMTTYPE=image/png:https://www.broadmoor.org/wp-content/uploads/2025/04/WomenInAction.png
END:VEVENT
BEGIN:VEVENT
DTSTART;TZID=America/Chicago:20260413T103000
DTEND;TZID=America/Chicago:20260413T120000
DTSTAMP:20260419T231807
CREATED:20260203T200030Z
LAST-MODIFIED:20260203T200316Z
UID:10009656-1776076200-1776081600@www.broadmoor.org
SUMMARY:Senior Adult Game Day
DESCRIPTION:Senior Adult Game Day is a monthly event where senior adults can come together\, connect with others\, and have some fun. We’ll have plenty of games\, great conversation\, and delicious free Domino’s Pizza. No registration is required – just show up and be ready for a great time! Join us the 2nd Monday of every month from January to October\, 10:30 am – 12 pm\, in the Community Room.
URL:https://www.broadmoor.org/event/senior-adult-game-day/2026-04-13/
LOCATION:Community Room
CATEGORIES:Adults,Seniors
ATTACH;FMTTYPE=image/png:https://www.broadmoor.org/wp-content/uploads/2026/02/Event-Photo.png
END:VEVENT
BEGIN:VEVENT
DTSTART;TZID=America/Chicago:20260412T123000
DTEND;TZID=America/Chicago:20260412T133000
DTSTAMP:20260419T231807
CREATED:20260312T194557Z
LAST-MODIFIED:20260323T165220Z
UID:10009743-1775997000-1776000600@www.broadmoor.org
SUMMARY:New Member Luncheon
DESCRIPTION:New Member Luncheon with the Pastor and staff for all new members who have been affirmed since January\, at 12:30 pm on Sunday\, April 12th. Childcare provided. This is a great opportunity to connect with other new members\, build relationships\, and get more info about our church community. For more information\, contact connections@broadmoor.org.
URL:https://www.broadmoor.org/event/new-member-luncheon/
CATEGORIES:Connections
ATTACH;FMTTYPE=image/jpeg:https://www.broadmoor.org/wp-content/uploads/2026/03/54407239577_d82565f09d_k-1-e1756998768435.jpg
END:VEVENT
BEGIN:VEVENT
DTSTART;TZID=America/Chicago:20260412T120000
DTEND;TZID=America/Chicago:20260412T130000
DTSTAMP:20260419T231807
CREATED:20260324T195117Z
LAST-MODIFIED:20260324T195117Z
UID:10009744-1775995200-1775998800@www.broadmoor.org
SUMMARY:Belize Missions Interest Meeting
DESCRIPTION:Broadmoor will host a Belize Mission Trip Interest Meeting on Sunday\, April 12th at noon in F100 for those interested in joining a mission team traveling to Belize City\, Belize\, August 1st-8th\, 2026. The team will serve alongside our partner\, Strategic Impact International\, assisting with evangelism and the discipling of new believers. Anyone interested in learning more about this opportunity and trip details is encouraged to attend the meeting.
URL:https://www.broadmoor.org/event/belize/
LOCATION:F100
CATEGORIES:Missions
ATTACH;FMTTYPE=image/png:https://www.broadmoor.org/wp-content/uploads/2026/03/Belieze-Event-Photo.png
END:VEVENT
BEGIN:VEVENT
DTSTART;TZID=America/Chicago:20260412T093000
DTEND;TZID=America/Chicago:20260412T103000
DTSTAMP:20260419T231807
CREATED:20260216T224442Z
LAST-MODIFIED:20260217T170233Z
UID:10009665-1775986200-1775989800@www.broadmoor.org
SUMMARY:The Commitment
DESCRIPTION:The Commitment is a special NextGen milestone designed for families to publicly dedicate themselves to raising their children in the loving guidance of Biblical wisdom. This ceremony\, held during Worship on April 12th\, is a powerful affirmation of your commitment to nurturing your little ones and guiding them to glorify God. To participate\, parents must attend at least one of the two classes on March 18th or March 25th from 6:15-7:15 pm in the Gathering Room. Register HERE by March 20th!
URL:https://www.broadmoor.org/event/the-commitment-6/
LOCATION:Worship Center
CATEGORIES:NextGen,Preschool
ATTACH;FMTTYPE=image/png:https://www.broadmoor.org/wp-content/uploads/2026/02/Event-Photo-2-1.png
END:VEVENT
BEGIN:VEVENT
DTSTART;TZID=America/Chicago:20260407T183000
DTEND;TZID=America/Chicago:20260407T200000
DTSTAMP:20260419T231807
CREATED:20260127T205910Z
LAST-MODIFIED:20260127T205910Z
UID:10009642-1775586600-1775592000@www.broadmoor.org
SUMMARY:Hope Awaits Support Group
DESCRIPTION:Hope Awaits is a support group for women struggling with infertility and pregnancy loss\, meeting on the first Tuesday of every month from 6:30 to 8 pm at the Center for Hope and Healing on Key Drive in Madison. Our community is a safe and caring space to share your story\, find connection\, and discover hope.
URL:https://www.broadmoor.org/event/hope-awaits-support-group/2026-04-07/
LOCATION:Center for Hope and Healing\, 212 Key Drive\, Madison\, MS\, 39110\, United States
CATEGORIES:Care
ATTACH;FMTTYPE=image/png:https://www.broadmoor.org/wp-content/uploads/2026/01/Event-Photo.png
END:VEVENT
BEGIN:VEVENT
DTSTART;TZID=America/Chicago:20260407T100000
DTEND;TZID=America/Chicago:20260407T113000
DTSTAMP:20260419T231807
CREATED:20251222T202830Z
LAST-MODIFIED:20251222T202851Z
UID:10009233-1775556000-1775561400@www.broadmoor.org
SUMMARY:Sarah Perkins WMU Group
DESCRIPTION:Join Debbie Campbell on the 1st Tuesday of the month at 10am in L202/220 as they discuss missions in the Southern Baptist Church and how to support missionaries. For more information\, contact the Women’s Ministry at 601-898-2345 or women@broadmoor.org.
URL:https://www.broadmoor.org/event/sarah-perkins-wmu-group-3/2026-04-07/
CATEGORIES:Womens Missions
ATTACH;FMTTYPE=image/jpeg:https://www.broadmoor.org/wp-content/uploads/2025/01/Sarah_Perkins_WMU.jpg
END:VEVENT
BEGIN:VEVENT
DTSTART;TZID=America/Chicago:20260407T063000
DTEND;TZID=America/Chicago:20260407T073000
DTSTAMP:20260419T231807
CREATED:20260216T174509Z
LAST-MODIFIED:20260216T174509Z
UID:10009664-1775543400-1775547000@www.broadmoor.org
SUMMARY:Men's Around the Table Breakfast
DESCRIPTION:Around The Table is a gathering for men to connect\, be encouraged\, and grow in their faith. Join us on April 7th from 6:30-7:30 am on the 3rd Floor of the Faith Building for breakfast\, a message from Pastor Josh\, and discussion. Feel free to bring your sons along! We’ll have Chick-fil-A and wrap up in time for you to head to work or school. RSVP HERE by April 5th at 2 pm to ensure we have enough food for everyone.
URL:https://www.broadmoor.org/event/mens-around-the-table-breakfast-2/
LOCATION:3rd Floor Faith
CATEGORIES:Adults,Men
ATTACH;FMTTYPE=image/png:https://www.broadmoor.org/wp-content/uploads/2026/02/Event-Photo-2.png
END:VEVENT
BEGIN:VEVENT
DTSTART;TZID=America/Chicago:20260405T110000
DTEND;TZID=America/Chicago:20260405T120000
DTSTAMP:20260419T231807
CREATED:20260326T211917Z
LAST-MODIFIED:20260326T211917Z
UID:10009747-1775386800-1775390400@www.broadmoor.org
SUMMARY:Easter Services
DESCRIPTION:Join us for our Easter Weekend Worship services at Broadmoor Baptist Church! We’re excited to come together as a community to celebrate the risen King. We have three services planned: Saturday\, April 4th at 6 pm\, and Sunday\, April 5th at 9:30 am and 11 am. Childcare will be available for birth-3 years old\, and no reservations are needed. This is a great opportunity to bring your family and friends to worship with us.
URL:https://www.broadmoor.org/event/easter-services/2026-04-05/2/
LOCATION:Worship Center
CATEGORIES:Easter
ATTACH;FMTTYPE=image/jpeg:https://www.broadmoor.org/wp-content/uploads/2026/03/263910ba-436f-4b9c-a13c-41176b41a706-8B5A9098__preview__-e1774559946489.jpg
END:VEVENT
BEGIN:VEVENT
DTSTART;TZID=America/Chicago:20260330T190000
DTEND;TZID=America/Chicago:20260330T194500
DTSTAMP:20260419T231807
CREATED:20260201T142430Z
LAST-MODIFIED:20260201T142430Z
UID:10009647-1774897200-1774899900@www.broadmoor.org
SUMMARY:Parents Standing in the Gap
DESCRIPTION:Parents Standing In The Gap is a prayer support group for parents of adult children\, meeting on the last Monday of each month\, from January 27th to April\, in the Key Room at the Center for Hope and Healing\, from 7 to 7:45 pm. This group provides a safe and caring environment where parents can find hope and prayer support as they navigate the unique journey of parenting adult children. Our goal is to offer a space for connection\, support\, and prayer\, where parents can share their experiences and receive encouragement from one another. We believe that no parent should feel alone in their journey\, and we’re committed to walking alongside you in prayer and care.
URL:https://www.broadmoor.org/event/parents-standing-in-the-gap-2/2026-03-30/
LOCATION:Center for Hope and Healing\, 212 Key Drive\, Madison\, MS\, 39110\, United States
CATEGORIES:Care
ATTACH;FMTTYPE=image/png:https://www.broadmoor.org/wp-content/uploads/2026/01/Event-Photo-1.png
END:VEVENT
BEGIN:VEVENT
DTSTART;TZID=America/Chicago:20260329T093000
DTEND;TZID=America/Chicago:20260329T103000
DTSTAMP:20260419T231807
CREATED:20260301T172539Z
LAST-MODIFIED:20260301T172539Z
UID:10009682-1774776600-1774780200@www.broadmoor.org
SUMMARY:Palm Sunday at Broadmoor
DESCRIPTION:Palm Sunday at Broadmoor is a special worship service featuring The Journey\, a dramatic interpretation of Jesus’ life\, death\, burial\, and resurrection\, presented by The Messengers\, our High School Drama troupe. The service will also include music from our Kids Ministry and Preschool Ministry choirs. Join us on March 29th at 9:30 am as we celebrate the beginning of Holy Week together!
URL:https://www.broadmoor.org/event/palm-sunday-at-broadmoor/
LOCATION:Worship Center
CATEGORIES:Easter
ATTACH;FMTTYPE=image/jpeg:https://www.broadmoor.org/wp-content/uploads/2026/03/ed181ff0-400a-47ed-acab-80da450db2dd-8B5A8958__preview__-e1772385931111.jpg
END:VEVENT
BEGIN:VEVENT
DTSTART;TZID=America/Chicago:20260328T090000
DTEND;TZID=America/Chicago:20260328T110000
DTSTAMP:20260419T231807
CREATED:20260301T144712Z
LAST-MODIFIED:20260301T144712Z
UID:10009681-1774688400-1774695600@www.broadmoor.org
SUMMARY:Easter Egg Hunt
DESCRIPTION:Join us for an unforgettable morning of Easter excitement at our annual Easter Egg Hunt\, held in partnership with Madison the City. The event will take place on March 28th from 9-11 am at Liberty Park in Madison\, and is designed for children from birth to 8 years old. Enjoy a variety of activities\, including games\, refreshments\, a train\, and of course\, the Easter egg hunt! This event is completely free and open to the entire community\, so mark your calendars and bring your family for a fun and memorable experience.
URL:https://www.broadmoor.org/event/easter-egg-hunt-2/
LOCATION:Liberty Park
CATEGORIES:Easter,Kids,NextGen,Preschool
ATTACH;FMTTYPE=image/png:https://www.broadmoor.org/wp-content/uploads/2026/03/Event-Photo.png
END:VEVENT
BEGIN:VEVENT
DTSTART;TZID=America/Chicago:20260327T180000
DTEND;TZID=America/Chicago:20260327T200000
DTSTAMP:20260419T231807
CREATED:20260309T163606Z
LAST-MODIFIED:20260309T163628Z
UID:10009683-1774634400-1774641600@www.broadmoor.org
SUMMARY:Friday Night Fellowship
DESCRIPTION:Get ready for an epic Friday Night Fellowship\, this time we’re taking it to the next level with Laser Tag!! Join us on March 27th from 6-8 pm in the Gym for an epic night of games\, food\, and friends. This event is completely free and open to all Middle School students in grades 6th-8th. We’ll provide the food\, so just bring yourself and a friend! Sign up HERE and invite a friend to join in on the fun. We can’t wait to see you there!
URL:https://www.broadmoor.org/event/friday-night-fellowship-9/
LOCATION:Gym
CATEGORIES:Middle School,NextGen
ATTACH;FMTTYPE=image/png:https://www.broadmoor.org/wp-content/uploads/2026/03/Event-Photo-1.png
END:VEVENT
BEGIN:VEVENT
DTSTART;TZID=America/Chicago:20260325T181500
DTEND;TZID=America/Chicago:20260325T193000
DTSTAMP:20260419T231807
CREATED:20260309T185121Z
LAST-MODIFIED:20260323T215626Z
UID:10009685-1774462500-1774467000@www.broadmoor.org
SUMMARY:Life Matters: Caring for Aging Parents
DESCRIPTION:Life Matters: Caring for Aging Parents is a two-part seminar designed to support adult children who are navigating the challenges of caring for their aging parents. The seminar will be held on March 18th and 25th and will cover topics such as ‘Caring Without Losing Yourself: Boundaries\, Balance & Burnout Prevention’ and ‘Legal and Financial Planning\, Protecting & Providing: Practical Tools for Family Caregivers.’ The seminar will provide practical guidance\, helpful resources\, and biblical encouragement to help participants walk this journey with wisdom\, compassion\, and peace.
URL:https://www.broadmoor.org/event/life-matters-caring-for-aging-parents/2026-03-25/
LOCATION:Chapel
CATEGORIES:Adults,Wednesdays,Wednesdays Care
ATTACH;FMTTYPE=image/jpeg:https://www.broadmoor.org/wp-content/uploads/2026/03/envato-labs-image-edit-e1773082249826.jpg
END:VEVENT
BEGIN:VEVENT
DTSTART;TZID=America/Chicago:20260324T184500
DTEND;TZID=America/Chicago:20260324T201500
DTSTAMP:20260419T231807
CREATED:20260217T221032Z
LAST-MODIFIED:20260217T221032Z
UID:10009666-1774377900-1774383300@www.broadmoor.org
SUMMARY:Mom to Mom
DESCRIPTION:Mom to Mom is a gathering for mothers of all ages to spend some time together celebrating the joys and challenges of motherhood. On March 24th\, NextGen Pastor Shaun Selman will share practical steps in guiding your child toward Christ\, helping you create biblical family rhythms that set the groundwork for your kids to chase after Jesus. To secure your spot\, please register HERE.
URL:https://www.broadmoor.org/event/mom-to-mom-8/
LOCATION:3rd Floor Faith
CATEGORIES:Women
ATTACH;FMTTYPE=image/jpeg:https://www.broadmoor.org/wp-content/uploads/2025/06/53908572699_95e567e16e_k-1-e1751209027146.jpg
END:VEVENT
BEGIN:VEVENT
DTSTART;TZID=America/Chicago:20260302T100000
DTEND;TZID=America/Chicago:20260302T110000
DTSTAMP:20260419T231807
CREATED:20251223T204756Z
LAST-MODIFIED:20260211T170410Z
UID:10009545-1772445600-1772449200@www.broadmoor.org
SUMMARY:New Journey Coffee & Chat
DESCRIPTION:New Journey Coffee & Chat is a time of fellowship and encouragement for widows in a casual setting. Join us on March 2nd at 10 am in the Gathering Room at Broadmoor Baptist Church for a special time of connection\, support\, and community. If you have any questions\, please reach out to Terri Phillips at tphillips@broadmoor.org.
URL:https://www.broadmoor.org/event/new-journey-coffee-chat-2/
LOCATION:Gathering Room
CATEGORIES:Adults,Care,Seniors
ATTACH;FMTTYPE=image/png:https://www.broadmoor.org/wp-content/uploads/2025/12/Event-Photo.png
END:VEVENT
BEGIN:VEVENT
DTSTART;TZID=America/Chicago:20260227T180000
DTEND;TZID=America/Chicago:20260227T200000
DTSTAMP:20260419T231807
CREATED:20260120T200031Z
LAST-MODIFIED:20260120T200031Z
UID:10009638-1772215200-1772222400@www.broadmoor.org
SUMMARY:Neon Nights
DESCRIPTION:Neon Nights is a night for Grace Ministry participants to have a fun night of dancing and dinner! Join us on Friday\, February 27th\, from 6 – 8 pm at Broadmoor Baptist Church. Registration is required\, but it’s FREE! This event is designed for individuals with special needs and those who wish to serve alongside them. We believe every person deserves a night to shine\, and we can’t wait to share this experience with you! Sign up as a participant or volunteer HERE!
URL:https://www.broadmoor.org/event/neon-nights-2/
LOCATION:The Venue
CATEGORIES:Grace
ATTACH;FMTTYPE=image/jpeg:https://www.broadmoor.org/wp-content/uploads/2026/01/54439083419_01e0304c78_k-e1768939219225.jpg
END:VEVENT
BEGIN:VEVENT
DTSTART;TZID=America/Chicago:20260225T181500
DTEND;TZID=America/Chicago:20260225T191500
DTSTAMP:20260419T231807
CREATED:20260202T155746Z
LAST-MODIFIED:20260202T155817Z
UID:10009652-1772043300-1772046900@www.broadmoor.org
SUMMARY:Life Matters
DESCRIPTION:Parents\, mark your calendars to join Dr. John Damon as he discusses the stages of parenting over the next four Wednesday evenings. John is the CEO of Canopy Children’s Solutions which is Mississippi’s largest and most comprehensive non-profit provider of children’s behavioral health\, education\, and family support solutions. February 4th\, John will visit on the topic of Parenting Your Preschooler. February 11th he will dig into parenting elementary age children. February 18th is all about middle and high school students\, and on February 25th he will talk about parenting as your child is in college. These sessions will take place in the Chapel during Wednesday gatherings so be sure to join the gatherings that are most appropriate for your life situation.
URL:https://www.broadmoor.org/event/life-matters/2026-02-25/
LOCATION:Chapel
CATEGORIES:Wednesdays
ATTACH;FMTTYPE=image/jpeg:https://www.broadmoor.org/wp-content/uploads/2026/02/66cc302b-add3-424f-9cdf-b2ca77e86483-8B5A8937__preview__-e1770047860871.jpg
END:VEVENT
END:VCALENDAR