BEGIN:VCALENDAR
VERSION:2.0
PRODID:-//Broadmoor Baptist Church - ECPv6.15.20//NONSGML v1.0//EN
CALSCALE:GREGORIAN
METHOD:PUBLISH
X-WR-CALNAME:Broadmoor Baptist Church
X-ORIGINAL-URL:https://www.broadmoor.org
X-WR-CALDESC:Events for Broadmoor Baptist Church
REFRESH-INTERVAL;VALUE=DURATION:PT1H
X-Robots-Tag:noindex
X-PUBLISHED-TTL:PT1H
BEGIN:VTIMEZONE
TZID:America/Chicago
BEGIN:DAYLIGHT
TZOFFSETFROM:-0600
TZOFFSETTO:-0500
TZNAME:CDT
DTSTART:20250309T080000
END:DAYLIGHT
BEGIN:STANDARD
TZOFFSETFROM:-0500
TZOFFSETTO:-0600
TZNAME:CST
DTSTART:20251102T070000
END:STANDARD
BEGIN:DAYLIGHT
TZOFFSETFROM:-0600
TZOFFSETTO:-0500
TZNAME:CDT
DTSTART:20260308T080000
END:DAYLIGHT
BEGIN:STANDARD
TZOFFSETFROM:-0500
TZOFFSETTO:-0600
TZNAME:CST
DTSTART:20261101T070000
END:STANDARD
BEGIN:DAYLIGHT
TZOFFSETFROM:-0600
TZOFFSETTO:-0500
TZNAME:CDT
DTSTART:20270314T080000
END:DAYLIGHT
BEGIN:STANDARD
TZOFFSETFROM:-0500
TZOFFSETTO:-0600
TZNAME:CST
DTSTART:20271107T070000
END:STANDARD
END:VTIMEZONE
BEGIN:VEVENT
DTSTART;TZID=America/Chicago:20260331T180000
DTEND;TZID=America/Chicago:20260331T193000
DTSTAMP:20260419T190914
CREATED:20260309T190627Z
LAST-MODIFIED:20260309T203840Z
UID:10009689-1774980000-1774985400@www.broadmoor.org
SUMMARY:Men's Tuesday Night Small Group
DESCRIPTION:Our Men’s Tuesday Small Group is an open group where men can attend to find community and fellowship with other men from Broadmoor and our community. We meet every Tuesday from 6-7:30 pm in F100. This group is designed to be an entry-level group for men to explore groups and find community. Join us and invite a friend to be part of this new community!
URL:https://www.broadmoor.org/event/mens-tuesday-night-small-group/2026-03-31/
LOCATION:F100
CATEGORIES:Men
ATTACH;FMTTYPE=image/png:https://www.broadmoor.org/wp-content/uploads/2026/03/Event-Photo-2.png
END:VEVENT
BEGIN:VEVENT
DTSTART;TZID=America/Chicago:20260331T083000
DTEND;TZID=America/Chicago:20260331T093000
DTSTAMP:20260419T190914
CREATED:20251222T225333Z
LAST-MODIFIED:20260212T180757Z
UID:10009536-1774945800-1774949400@www.broadmoor.org
SUMMARY:Moms in Prayer
DESCRIPTION:Moms in Prayer is a weekly meeting where mothers can gather to pray for their kids and schools. Led by Pattie Armstrong\, this meeting will take place every Tuesday from January 13th to May 18th\, 8:30-9:30 am in F100. We invite all mothers from across the Madison County community to join us as we seek to make a meaningful impact in the lives of our children and schools through prayer.
URL:https://www.broadmoor.org/event/moms-in-prayer-2/2026-03-31/
LOCATION:F100
CATEGORIES:Women
ATTACH;FMTTYPE=image/jpeg:https://www.broadmoor.org/wp-content/uploads/2025/12/DSC_0411-e1766525131410.jpg
END:VEVENT
BEGIN:VEVENT
DTSTART;TZID=America/Chicago:20260330T190000
DTEND;TZID=America/Chicago:20260330T194500
DTSTAMP:20260419T190914
CREATED:20260201T142430Z
LAST-MODIFIED:20260201T142430Z
UID:10009647-1774897200-1774899900@www.broadmoor.org
SUMMARY:Parents Standing in the Gap
DESCRIPTION:Parents Standing In The Gap is a prayer support group for parents of adult children\, meeting on the last Monday of each month\, from January 27th to April\, in the Key Room at the Center for Hope and Healing\, from 7 to 7:45 pm. This group provides a safe and caring environment where parents can find hope and prayer support as they navigate the unique journey of parenting adult children. Our goal is to offer a space for connection\, support\, and prayer\, where parents can share their experiences and receive encouragement from one another. We believe that no parent should feel alone in their journey\, and we’re committed to walking alongside you in prayer and care.
URL:https://www.broadmoor.org/event/parents-standing-in-the-gap-2/2026-03-30/
LOCATION:Center for Hope and Healing\, 212 Key Drive\, Madison\, MS\, 39110\, United States
CATEGORIES:Care
ATTACH;FMTTYPE=image/png:https://www.broadmoor.org/wp-content/uploads/2026/01/Event-Photo-1.png
END:VEVENT
BEGIN:VEVENT
DTSTART;TZID=America/Chicago:20260329T093000
DTEND;TZID=America/Chicago:20260329T103000
DTSTAMP:20260419T190914
CREATED:20260301T172539Z
LAST-MODIFIED:20260301T172539Z
UID:10009682-1774776600-1774780200@www.broadmoor.org
SUMMARY:Palm Sunday at Broadmoor
DESCRIPTION:Palm Sunday at Broadmoor is a special worship service featuring The Journey\, a dramatic interpretation of Jesus’ life\, death\, burial\, and resurrection\, presented by The Messengers\, our High School Drama troupe. The service will also include music from our Kids Ministry and Preschool Ministry choirs. Join us on March 29th at 9:30 am as we celebrate the beginning of Holy Week together!
URL:https://www.broadmoor.org/event/palm-sunday-at-broadmoor/
LOCATION:Worship Center
CATEGORIES:Easter
ATTACH;FMTTYPE=image/jpeg:https://www.broadmoor.org/wp-content/uploads/2026/03/ed181ff0-400a-47ed-acab-80da450db2dd-8B5A8958__preview__-e1772385931111.jpg
END:VEVENT
BEGIN:VEVENT
DTSTART;TZID=America/Chicago:20260328T090000
DTEND;TZID=America/Chicago:20260328T110000
DTSTAMP:20260419T190914
CREATED:20260301T144712Z
LAST-MODIFIED:20260301T144712Z
UID:10009681-1774688400-1774695600@www.broadmoor.org
SUMMARY:Easter Egg Hunt
DESCRIPTION:Join us for an unforgettable morning of Easter excitement at our annual Easter Egg Hunt\, held in partnership with Madison the City. The event will take place on March 28th from 9-11 am at Liberty Park in Madison\, and is designed for children from birth to 8 years old. Enjoy a variety of activities\, including games\, refreshments\, a train\, and of course\, the Easter egg hunt! This event is completely free and open to the entire community\, so mark your calendars and bring your family for a fun and memorable experience.
URL:https://www.broadmoor.org/event/easter-egg-hunt-2/
LOCATION:Liberty Park
CATEGORIES:Easter,Kids,NextGen,Preschool
ATTACH;FMTTYPE=image/png:https://www.broadmoor.org/wp-content/uploads/2026/03/Event-Photo.png
END:VEVENT
BEGIN:VEVENT
DTSTART;TZID=America/Chicago:20260327T180000
DTEND;TZID=America/Chicago:20260327T200000
DTSTAMP:20260419T190914
CREATED:20260309T163606Z
LAST-MODIFIED:20260309T163628Z
UID:10009683-1774634400-1774641600@www.broadmoor.org
SUMMARY:Friday Night Fellowship
DESCRIPTION:Get ready for an epic Friday Night Fellowship\, this time we’re taking it to the next level with Laser Tag!! Join us on March 27th from 6-8 pm in the Gym for an epic night of games\, food\, and friends. This event is completely free and open to all Middle School students in grades 6th-8th. We’ll provide the food\, so just bring yourself and a friend! Sign up HERE and invite a friend to join in on the fun. We can’t wait to see you there!
URL:https://www.broadmoor.org/event/friday-night-fellowship-9/
LOCATION:Gym
CATEGORIES:Middle School,NextGen
ATTACH;FMTTYPE=image/png:https://www.broadmoor.org/wp-content/uploads/2026/03/Event-Photo-1.png
END:VEVENT
BEGIN:VEVENT
DTSTART;TZID=America/Chicago:20260326T110000
DTEND;TZID=America/Chicago:20260326T120000
DTSTAMP:20260419T190914
CREATED:20251222T202205Z
LAST-MODIFIED:20251222T202219Z
UID:10009203-1774522800-1774526400@www.broadmoor.org
SUMMARY:Shay Greenwood Bible Study
DESCRIPTION:Join Shay Greenwood online each week as she digs into Finding Freedom in Christ by Portia Collins. This is a great option for those that are on the go each week and need the flexibility of an online option. For more information contact the Women’s Ministry at women@broadmoor.org or call 601-898-2345.
URL:https://www.broadmoor.org/event/shay-greenwood-bible-study/2026-03-26/
CATEGORIES:Online,Women
ATTACH;FMTTYPE=image/png:https://www.broadmoor.org/wp-content/uploads/2024/08/ZoomBibleStudy.png
END:VEVENT
BEGIN:VEVENT
DTSTART;TZID=America/Chicago:20260326T100000
DTEND;TZID=America/Chicago:20260326T120000
DTSTAMP:20260419T190914
CREATED:20251222T202351Z
LAST-MODIFIED:20260407T204719Z
UID:10009557-1774519200-1774526400@www.broadmoor.org
SUMMARY:Thursdays Precept Bible Study
DESCRIPTION:Join Dodie Offerman as she leads a study of 2 Samuel\, Kings\, and Prophets 1 & 2 using the Precept model of Bible study at 10 am in L201/203. For more information\, contact the Women’s Ministry at women@broadmoor.org or 601-898-2345.
URL:https://www.broadmoor.org/event/precept-bible-study-3-2/2026-03-26/
LOCATION:Love 201/203\, 1531 Highland Colony Parkway\, Madison\, MS\, 39110\, United States
CATEGORIES:Adults,Women
ATTACH;FMTTYPE=image/png:https://www.broadmoor.org/wp-content/uploads/2025/07/Precept-Bible-Study.png
END:VEVENT
BEGIN:VEVENT
DTSTART;TZID=America/Chicago:20260326T090000
DTEND;TZID=America/Chicago:20260326T110000
DTSTAMP:20260419T190914
CREATED:20260309T213454Z
LAST-MODIFIED:20260407T204513Z
UID:10009737-1774515600-1774522800@www.broadmoor.org
SUMMARY:Manna Women's Bible Study
DESCRIPTION:Kim Clark will lead this Women’s Ministry study this spring as they look at Anchored – The Life & Letters of the Apostle Peter by Marian Jordan Ellis from 9-11 am in room L221. For more information\, contact the Women’s Ministry at 601-898-2345 or women@broadmoor.org.
URL:https://www.broadmoor.org/event/manna-womens-bible-study-2/2026-03-26/
LOCATION:Love 221
CATEGORIES:Adults,Women
ATTACH;FMTTYPE=image/png:https://www.broadmoor.org/wp-content/uploads/2025/07/Manna-Bible-Study.png
END:VEVENT
BEGIN:VEVENT
DTSTART;TZID=America/Chicago:20260325T181500
DTEND;TZID=America/Chicago:20260325T201500
DTSTAMP:20260419T190914
CREATED:20260112T200611Z
LAST-MODIFIED:20260112T202119Z
UID:10009604-1774462500-1774469700@www.broadmoor.org
SUMMARY:DivorceCare
DESCRIPTION:DivorceCare is a supportive and caring 13-week group program at Broadmoor Baptist Church\, designed to help individuals navigate through the grief and challenges resulting from separation or divorce. Beginning on January 14th\, from 6:15 to 8:15 pm\, attendees can meet weekly in rooms L211/212\, where they will find a compassionate community and guidance rooted in biblical truth. Our church’s mission and vision drive us to pursue reconciliation and live generously\, creating a nurturing space for healing. We invite you to join this journey of recovery and growth. Register HERE.
URL:https://www.broadmoor.org/event/divorcecare-4/2026-03-25/
LOCATION:Love 211/212
CATEGORIES:Care,Wednesdays Care
ATTACH;FMTTYPE=image/png:https://www.broadmoor.org/wp-content/uploads/2025/07/Event-Photo_-3.png
END:VEVENT
BEGIN:VEVENT
DTSTART;TZID=America/Chicago:20260325T181500
DTEND;TZID=America/Chicago:20260325T201500
DTSTAMP:20260419T190914
CREATED:20260112T200033Z
LAST-MODIFIED:20260112T202156Z
UID:10009619-1774462500-1774469700@www.broadmoor.org
SUMMARY:GriefShare
DESCRIPTION:At Broadmoor\, GriefShare offers a gentle path of healing through its 13-week support group. Beginning January 14th\, meet others every Wednesday evening from 6:15 to 8:15 pm in Rooms L209/210 as they journey through healing with videos\, discussions\, and workbook activities\, all crafted to offer solace and understanding in community. The program fee of $20 ensures you have access to the workbook that will guide you in finding hope and peace. Whether you’re in mourning or supporting a loved one\, GriefShare stands as a beacon of God’s love and comfort. Register HERE.
URL:https://www.broadmoor.org/event/griefshare-4/2026-03-25/
LOCATION:Love 209/210
CATEGORIES:Care,Wednesdays Care
ATTACH;FMTTYPE=image/png:https://www.broadmoor.org/wp-content/uploads/2025/07/Event-Photo_-4.png
END:VEVENT
BEGIN:VEVENT
DTSTART;TZID=America/Chicago:20260325T181500
DTEND;TZID=America/Chicago:20260325T193000
DTSTAMP:20260419T190914
CREATED:20260309T185121Z
LAST-MODIFIED:20260323T215626Z
UID:10009685-1774462500-1774467000@www.broadmoor.org
SUMMARY:Life Matters: Caring for Aging Parents
DESCRIPTION:Life Matters: Caring for Aging Parents is a two-part seminar designed to support adult children who are navigating the challenges of caring for their aging parents. The seminar will be held on March 18th and 25th and will cover topics such as ‘Caring Without Losing Yourself: Boundaries\, Balance & Burnout Prevention’ and ‘Legal and Financial Planning\, Protecting & Providing: Practical Tools for Family Caregivers.’ The seminar will provide practical guidance\, helpful resources\, and biblical encouragement to help participants walk this journey with wisdom\, compassion\, and peace.
URL:https://www.broadmoor.org/event/life-matters-caring-for-aging-parents/2026-03-25/
LOCATION:Chapel
CATEGORIES:Adults,Wednesdays,Wednesdays Care
ATTACH;FMTTYPE=image/jpeg:https://www.broadmoor.org/wp-content/uploads/2026/03/envato-labs-image-edit-e1773082249826.jpg
END:VEVENT
BEGIN:VEVENT
DTSTART;TZID=America/Chicago:20260325T181500
DTEND;TZID=America/Chicago:20260325T193000
DTSTAMP:20260419T190914
CREATED:20251222T222617Z
LAST-MODIFIED:20251223T203922Z
UID:10009479-1774462500-1774467000@www.broadmoor.org
SUMMARY:Revelation with Ben Gladd
DESCRIPTION:Join us for Revelation a captivating series with Dr. Ben Gladd starting January 14th through May 6th. from 6:15 -7:30 pm. Held on Wednesdays in The Venue\, this series will journey through one of the hardest books of the Bible to grasp. Dr. Gladd\, renowned for his insightful teaching and expertise\, will help us explore the themes of Revelation.
URL:https://www.broadmoor.org/event/revelation-with-ben-gladd/2026-03-25/
LOCATION:Venue
CATEGORIES:Adults,Wednesdays
ATTACH;FMTTYPE=image/jpeg:https://www.broadmoor.org/wp-content/uploads/2025/07/benjamin-gladd-executive-director-carson-center.jpg
END:VEVENT
BEGIN:VEVENT
DTSTART;TZID=America/Chicago:20260325T181500
DTEND;TZID=America/Chicago:20260325T193000
DTSTAMP:20260419T190914
CREATED:20251222T222343Z
LAST-MODIFIED:20251222T222358Z
UID:10009455-1774462500-1774467000@www.broadmoor.org
SUMMARY:THRIVE
DESCRIPTION:Join High School on Wednesday nights from 6:15-7:30 pm for a time of connection\, worship\, and bible teaching\, and practical application.
URL:https://www.broadmoor.org/event/thrive-2/2026-03-25/
LOCATION:3rd Floor Faith
CATEGORIES:High School,NextGen,Wednesdays Nextgen
ATTACH;FMTTYPE=image/jpeg:https://www.broadmoor.org/wp-content/uploads/2025/07/53910912514_af1587b6fa_k-e1753999011479.jpg
END:VEVENT
BEGIN:VEVENT
DTSTART;TZID=America/Chicago:20260325T181500
DTEND;TZID=America/Chicago:20260325T193000
DTSTAMP:20260419T190914
CREATED:20251222T222241Z
LAST-MODIFIED:20260114T210836Z
UID:10009424-1774462500-1774467000@www.broadmoor.org
SUMMARY:5.1.7
DESCRIPTION:Join Middle School on Wednesday nights from 6:15-7:30 pm for a time of connection\, worship\, and bible teaching\, and practical application.
URL:https://www.broadmoor.org/event/5-1-7-2/2026-03-25/
LOCATION:Middle School 2nd Floor
CATEGORIES:Middle School,NextGen,Wednesdays Nextgen
ATTACH;FMTTYPE=image/jpeg:https://www.broadmoor.org/wp-content/uploads/2025/12/Image-5-e1768424903131.jpeg
END:VEVENT
BEGIN:VEVENT
DTSTART;TZID=America/Chicago:20260325T181500
DTEND;TZID=America/Chicago:20260325T193000
DTSTAMP:20260419T190914
CREATED:20251222T222027Z
LAST-MODIFIED:20251222T222043Z
UID:10009393-1774462500-1774467000@www.broadmoor.org
SUMMARY:Discovery
DESCRIPTION:During Discovery on Wednesday nights your child will visit 3 different rotations: Bible skills\, snack and music. During Bible Skills kids will discover what God says about who He is and how He loves us! It is a night full of fun and learning that your child will not want to miss!
URL:https://www.broadmoor.org/event/discovery-2/2026-03-25/
LOCATION:Kidtown
CATEGORIES:Kids,NextGen,Wednesdays Nextgen
ATTACH;FMTTYPE=image/jpeg:https://www.broadmoor.org/wp-content/uploads/2025/04/53138816589_f18c075e2e_k-e1745876366426.jpg
END:VEVENT
BEGIN:VEVENT
DTSTART;TZID=America/Chicago:20260325T181500
DTEND;TZID=America/Chicago:20260325T193000
DTSTAMP:20260419T190914
CREATED:20251222T221850Z
LAST-MODIFIED:20251222T221914Z
UID:10009360-1774462500-1774467000@www.broadmoor.org
SUMMARY:K4 & K5 Scriptures & Songs
DESCRIPTION:Join Preschool on Wednesday Nights from 6:15-7:30 pm for a fun evening filled with Bible stories\, music\, crafts\, and playtime as our youngest learners grow in their understanding of God’s love!
URL:https://www.broadmoor.org/event/k4-k5-scriptures-songs-2/2026-03-25/
LOCATION:Preschool
CATEGORIES:NextGen,Preschool,Wednesdays Nextgen
ATTACH;FMTTYPE=image/jpeg:https://www.broadmoor.org/wp-content/uploads/2025/07/53911007705_d3391c8639_k-e1754514787852.jpg
END:VEVENT
BEGIN:VEVENT
DTSTART;TZID=America/Chicago:20260325T181500
DTEND;TZID=America/Chicago:20260325T193000
DTSTAMP:20260419T190914
CREATED:20251222T221718Z
LAST-MODIFIED:20251222T221741Z
UID:10009329-1774462500-1774467000@www.broadmoor.org
SUMMARY:Choir Rehearsal
DESCRIPTION:Join Johann Acuña for Worship Choir Rehearsal at 6:15 pm in the Choir Suite. The choir is a passionate group of singers who help lead congregational worship in Sunday services and special gatherings throughout the year. Open to adults of all ages\, the choir is a place for those who love to sing and want to use their gifts to serve the Lord.
URL:https://www.broadmoor.org/event/choir-rehearsal/2026-03-25/
LOCATION:Choir Suite
CATEGORIES:Wednesdays
ATTACH;FMTTYPE=image/jpeg:https://www.broadmoor.org/wp-content/uploads/2025/08/1dd1b393-7305-4a61-9f32-6e37cfb03831-img_9380_53813811570_o-e1754334115726.jpg
END:VEVENT
BEGIN:VEVENT
DTSTART;TZID=America/Chicago:20260325T181500
DTEND;TZID=America/Chicago:20260325T193000
DTSTAMP:20260419T190914
CREATED:20251222T221601Z
LAST-MODIFIED:20251222T221613Z
UID:10009298-1774462500-1774467000@www.broadmoor.org
SUMMARY:Shelter Ministry Support Group
DESCRIPTION:The Shelter Ministry Support Group is for anyone involved in foster care or adoption. Come find a safe place to open up about the joys and challenges of the journey. You’ll find encouragement in knowing the others in the room understand you and are walking the same road!
URL:https://www.broadmoor.org/event/shelter-ministry-support-group-2/2026-03-25/
LOCATION:Love 206
CATEGORIES:Care,Shelter,Wednesdays Care
ATTACH;FMTTYPE=image/jpeg:https://www.broadmoor.org/wp-content/uploads/2025/07/sincerely-media-dGxOgeXAXm8-unsplash-1-scaled-e1754000823302.jpg
END:VEVENT
BEGIN:VEVENT
DTSTART;TZID=America/Chicago:20260325T181500
DTEND;TZID=America/Chicago:20260325T193000
DTSTAMP:20260419T190914
CREATED:20251222T221440Z
LAST-MODIFIED:20260305T211829Z
UID:10009267-1774462500-1774467000@www.broadmoor.org
SUMMARY:Men's Bible Study
DESCRIPTION:Join Jim McCay\, Jay Fletcher\, Rick Lachney\, and Brad Stubblefield on Wednesday Nights from 6:15 -7:30pm in the Community Room. For more information\, contact the Men’s Ministry at men@broadmoor.org or 601-898-2345.
URL:https://www.broadmoor.org/event/mens-bible-study-2/2026-03-25/
LOCATION:Community Room
CATEGORIES:Adults,Men,Wednesdays
ATTACH;FMTTYPE=image/jpeg:https://www.broadmoor.org/wp-content/uploads/2025/12/0f2de940-bf17-4603-869f-531a81cbabb3-8B5A0062__preview__.jpg
END:VEVENT
BEGIN:VEVENT
DTSTART;TZID=America/Chicago:20260325T181500
DTEND;TZID=America/Chicago:20260325T193000
DTSTAMP:20260419T190914
CREATED:20251222T201243Z
LAST-MODIFIED:20260112T215548Z
UID:10009082-1774462500-1774467000@www.broadmoor.org
SUMMARY:Wednesdays Precept Bible Study
DESCRIPTION:Join Dodie Offerman\, Barbara Gross\, & Melinda Hendrix as they study the books of 2 Samuel\, Kings\, and Prophets 1 & 2 using the Precept Ministries model of learning scripture and content at 6:15 pm in L201/203. For more information\, contact the Women’s Ministry at women@broadmoor.org or 601-898-2345.
URL:https://www.broadmoor.org/event/precept-bible-study-2/2026-03-25/
LOCATION:Love 201/203\, 1531 Highland Colony Parkway\, Madison\, MS\, 39110\, United States
CATEGORIES:Wednesdays,Women
ATTACH;FMTTYPE=image/jpeg:https://www.broadmoor.org/wp-content/uploads/2025/12/10756eab-09a2-4ab6-9923-4e6f3fdcfd90-8B5A0911__preview__-e1768254685204.jpg
END:VEVENT
BEGIN:VEVENT
DTSTART;TZID=America/Chicago:20260325T181500
DTEND;TZID=America/Chicago:20260325T193000
DTSTAMP:20260419T190914
CREATED:20251222T200936Z
LAST-MODIFIED:20260108T212702Z
UID:10009052-1774462500-1774467000@www.broadmoor.org
SUMMARY:Single Moms Bible Study
DESCRIPTION:Join Pattie Armstrong & Sandra Horne as they study Motherhood Through God’s Perspective from 6:15-7:30 pm in L205. For more information\, contact the Women’s Ministry at women@broadmoor.org or 601-898-2345.
URL:https://www.broadmoor.org/event/single-moms-bible-study-2/2026-03-25/
CATEGORIES:Wednesdays,Women
ATTACH;FMTTYPE=image/png:https://www.broadmoor.org/wp-content/uploads/2025/07/SingleMomsStudy.png
END:VEVENT
BEGIN:VEVENT
DTSTART;TZID=America/Chicago:20260325T181500
DTEND;TZID=America/Chicago:20260325T193000
DTSTAMP:20260419T190914
CREATED:20251222T200649Z
LAST-MODIFIED:20260112T215359Z
UID:10009021-1774462500-1774467000@www.broadmoor.org
SUMMARY:Vicki Watson Women's Bible Study
DESCRIPTION:Vicki Watson & Laura Watrous lead an intergenerational group of women through Daniel: Lives of Integrity\, Words of Prophecy by Beth Moore. This group meets in Love 221 on campus each Wednesday night at 6:15 pm unless otherwise noted. For more information\, contact the Women’s Ministry at women@broadmoor.org or 601-898-2345.
URL:https://www.broadmoor.org/event/vicki-watson-womens-bible-study-2/2026-03-25/
LOCATION:Love 221
CATEGORIES:Wednesdays,Women
ATTACH;FMTTYPE=image/jpeg:https://www.broadmoor.org/wp-content/uploads/2024/07/53139027230_a12e9f43e7_k-2-e1722345785622.jpg
END:VEVENT
BEGIN:VEVENT
DTSTART;TZID=America/Chicago:20260325T093000
DTEND;TZID=America/Chicago:20260325T113000
DTSTAMP:20260419T190914
CREATED:20251222T200403Z
LAST-MODIFIED:20260112T213138Z
UID:10008992-1774431000-1774438200@www.broadmoor.org
SUMMARY:Sisters In Christ Bible Study
DESCRIPTION:Diane Smith & Melinda Hendrix will lead this Women’s Ministry study this fall as they look at the Book of Matthew at 9:30 am in F100. For more information\, contact the Women’s Ministry at 601-898-2345 or women@broadmoor.org.
URL:https://www.broadmoor.org/event/sisters-in-christ-bible-study-2/2026-03-25/
LOCATION:F100
CATEGORIES:Women
ATTACH;FMTTYPE=image/jpeg:https://www.broadmoor.org/wp-content/uploads/2025/07/SistersInChrist.jpg
END:VEVENT
BEGIN:VEVENT
DTSTART;TZID=America/Chicago:20260324T184500
DTEND;TZID=America/Chicago:20260324T201500
DTSTAMP:20260419T190914
CREATED:20260217T221032Z
LAST-MODIFIED:20260217T221032Z
UID:10009666-1774377900-1774383300@www.broadmoor.org
SUMMARY:Mom to Mom
DESCRIPTION:Mom to Mom is a gathering for mothers of all ages to spend some time together celebrating the joys and challenges of motherhood. On March 24th\, NextGen Pastor Shaun Selman will share practical steps in guiding your child toward Christ\, helping you create biblical family rhythms that set the groundwork for your kids to chase after Jesus. To secure your spot\, please register HERE.
URL:https://www.broadmoor.org/event/mom-to-mom-8/
LOCATION:3rd Floor Faith
CATEGORIES:Women
ATTACH;FMTTYPE=image/jpeg:https://www.broadmoor.org/wp-content/uploads/2025/06/53908572699_95e567e16e_k-1-e1751209027146.jpg
END:VEVENT
BEGIN:VEVENT
DTSTART;TZID=America/Chicago:20260318T181500
DTEND;TZID=America/Chicago:20260318T193000
DTSTAMP:20260419T190914
CREATED:20251222T203011Z
LAST-MODIFIED:20251222T203011Z
UID:10009241-1773857700-1773862200@www.broadmoor.org
SUMMARY:Women's Heart for Missions WMU Group
DESCRIPTION:Join Regina Powell on the 3rd Wednesday of the month at 6:15 pm in the Hangar as they discuss missions in the Southern Baptist Church and how to support missionaries. For more information\, contact the Women’s Ministry at 601-898-2345 or women@broadmoor.org.
URL:https://www.broadmoor.org/event/womens-heart-for-missions-wmu-group/2026-03-18/
LOCATION:The Hangar
CATEGORIES:Adults,Wednesdays,Womens Missions
ATTACH;FMTTYPE=image/jpeg:https://www.broadmoor.org/wp-content/uploads/2025/08/54023116086_a6b7f35b4a_k-e1754515344863.jpg
END:VEVENT
BEGIN:VEVENT
DTSTART;TZID=America/Chicago:20260309T180000
DTEND;TZID=America/Chicago:20260309T193000
DTSTAMP:20260419T190914
CREATED:20251007T142707Z
LAST-MODIFIED:20251007T154218Z
UID:10008922-1773079200-1773084600@www.broadmoor.org
SUMMARY:Alzheimer's/Dementia Support Group
DESCRIPTION:If you’re a caregiver for someone with Alzheimer’s or another form of dementia\, you don’t have to walk this journey alone. Join leaders Jane Goff and Karen Rothe each month in the Gathering Room for a time of encouragement\, learning\, and connection with others who understand. \nThe group meets on the second Monday of each month from 6:00 to 7:30 pm. Each session begins with a 30-minute guest speaker or discussion leader\, followed by open conversation\, Q&A\, and fellowship. Speakers are selected based on the group’s developing needs\, offering relevant and practical insight for caregivers. \nThis group is open to caregivers only to ensure a safe and focused environment. All dementia caregivers are welcome—whether you’re caring for someone with Alzheimer’s\, Parkinson’s\, Lewy Body\, stroke-related dementia\, or another form of memory loss. \nFor more information\, please reach out to dementia@broadmoor.org.
URL:https://www.broadmoor.org/event/alzheimers-dementia-support-group/2026-03-09/
LOCATION:Gathering Room
CATEGORIES:Care
ATTACH;FMTTYPE=image/jpeg:https://www.broadmoor.org/wp-content/uploads/2025/10/omid-WOfPQHSgb1Y-unsplash-scaled.jpg
END:VEVENT
BEGIN:VEVENT
DTSTART;TZID=America/Chicago:20260309T120000
DTEND;TZID=America/Chicago:20260309T130000
DTSTAMP:20260419T190914
CREATED:20251222T202637Z
LAST-MODIFIED:20260112T214536Z
UID:10009225-1773057600-1773061200@www.broadmoor.org
SUMMARY:Women in Action WMU Group
DESCRIPTION:Join Barbara Mangrum in L221 at 12 pm on the 2nd Monday of each month as the Women In Action look at missions around the world and how they can support those on mission. For more information\, contact the Women’s Ministry at 601-898-2345 or women@broadmoor.org.
URL:https://www.broadmoor.org/event/women-in-action-wmu-group/2026-03-09/
LOCATION:Love 221
CATEGORIES:Womens Missions
ATTACH;FMTTYPE=image/png:https://www.broadmoor.org/wp-content/uploads/2025/04/WomenInAction.png
END:VEVENT
BEGIN:VEVENT
DTSTART;TZID=America/Chicago:20260309T103000
DTEND;TZID=America/Chicago:20260309T120000
DTSTAMP:20260419T190914
CREATED:20260203T200030Z
LAST-MODIFIED:20260203T200316Z
UID:10009655-1773052200-1773057600@www.broadmoor.org
SUMMARY:Senior Adult Game Day
DESCRIPTION:Senior Adult Game Day is a monthly event where senior adults can come together\, connect with others\, and have some fun. We’ll have plenty of games\, great conversation\, and delicious free Domino’s Pizza. No registration is required – just show up and be ready for a great time! Join us the 2nd Monday of every month from January to October\, 10:30 am – 12 pm\, in the Community Room.
URL:https://www.broadmoor.org/event/senior-adult-game-day/2026-03-09/
LOCATION:Community Room
CATEGORIES:Adults,Seniors
ATTACH;FMTTYPE=image/png:https://www.broadmoor.org/wp-content/uploads/2026/02/Event-Photo.png
END:VEVENT
BEGIN:VEVENT
DTSTART;TZID=America/Chicago:20260303T183000
DTEND;TZID=America/Chicago:20260303T200000
DTSTAMP:20260419T190914
CREATED:20260127T205910Z
LAST-MODIFIED:20260127T205910Z
UID:10009641-1772562600-1772568000@www.broadmoor.org
SUMMARY:Hope Awaits Support Group
DESCRIPTION:Hope Awaits is a support group for women struggling with infertility and pregnancy loss\, meeting on the first Tuesday of every month from 6:30 to 8 pm at the Center for Hope and Healing on Key Drive in Madison. Our community is a safe and caring space to share your story\, find connection\, and discover hope.
URL:https://www.broadmoor.org/event/hope-awaits-support-group/2026-03-03/
LOCATION:Center for Hope and Healing\, 212 Key Drive\, Madison\, MS\, 39110\, United States
CATEGORIES:Care
ATTACH;FMTTYPE=image/png:https://www.broadmoor.org/wp-content/uploads/2026/01/Event-Photo.png
END:VEVENT
END:VCALENDAR