BEGIN:VCALENDAR
VERSION:2.0
PRODID:-//Broadmoor Baptist Church - ECPv6.15.20//NONSGML v1.0//EN
CALSCALE:GREGORIAN
METHOD:PUBLISH
X-WR-CALNAME:Broadmoor Baptist Church
X-ORIGINAL-URL:https://www.broadmoor.org
X-WR-CALDESC:Events for Broadmoor Baptist Church
REFRESH-INTERVAL;VALUE=DURATION:PT1H
X-Robots-Tag:noindex
X-PUBLISHED-TTL:PT1H
BEGIN:VTIMEZONE
TZID:America/Chicago
BEGIN:DAYLIGHT
TZOFFSETFROM:-0600
TZOFFSETTO:-0500
TZNAME:CDT
DTSTART:20250309T080000
END:DAYLIGHT
BEGIN:STANDARD
TZOFFSETFROM:-0500
TZOFFSETTO:-0600
TZNAME:CST
DTSTART:20251102T070000
END:STANDARD
BEGIN:DAYLIGHT
TZOFFSETFROM:-0600
TZOFFSETTO:-0500
TZNAME:CDT
DTSTART:20260308T080000
END:DAYLIGHT
BEGIN:STANDARD
TZOFFSETFROM:-0500
TZOFFSETTO:-0600
TZNAME:CST
DTSTART:20261101T070000
END:STANDARD
BEGIN:DAYLIGHT
TZOFFSETFROM:-0600
TZOFFSETTO:-0500
TZNAME:CDT
DTSTART:20270314T080000
END:DAYLIGHT
BEGIN:STANDARD
TZOFFSETFROM:-0500
TZOFFSETTO:-0600
TZNAME:CST
DTSTART:20271107T070000
END:STANDARD
END:VTIMEZONE
BEGIN:VEVENT
DTSTART;TZID=America/Chicago:20260505T063000
DTEND;TZID=America/Chicago:20260505T073000
DTSTAMP:20260425T071159
CREATED:20260331T191134Z
LAST-MODIFIED:20260401T143723Z
UID:10009752-1777962600-1777966200@www.broadmoor.org
SUMMARY:Around the Table: Spring Small Group
DESCRIPTION:Join us for a 4-week small group experience designed specifically for men\, focusing on The Heart of A Man. We’ll be meeting at 6:30 am on the 3rd Floor Faith Building\, starting April 14th and running through May 5th. Don’t worry if you can’t make all the meetings\, just come when you can. This is a great opportunity to connect with others\, grow in your faith\, and be part of a community that’s all about living out our mission to know and be known. Sign up HERE and invite a friend to join you!
URL:https://www.broadmoor.org/event/around-the-table-spring-small-group/2026-05-05/
LOCATION:3rd Floor Faith
CATEGORIES:Adults,Men
ATTACH;FMTTYPE=image/png:https://www.broadmoor.org/wp-content/uploads/2026/03/Event-Photo-3.png
END:VEVENT
BEGIN:VEVENT
DTSTART;TZID=America/Chicago:20260505T083000
DTEND;TZID=America/Chicago:20260505T093000
DTSTAMP:20260425T071159
CREATED:20251222T225333Z
LAST-MODIFIED:20260212T180757Z
UID:10009541-1777969800-1777973400@www.broadmoor.org
SUMMARY:Moms in Prayer
DESCRIPTION:Moms in Prayer is a weekly meeting where mothers can gather to pray for their kids and schools. Led by Pattie Armstrong\, this meeting will take place every Tuesday from January 13th to May 18th\, 8:30-9:30 am in F100. We invite all mothers from across the Madison County community to join us as we seek to make a meaningful impact in the lives of our children and schools through prayer.
URL:https://www.broadmoor.org/event/moms-in-prayer-2/2026-05-05/
LOCATION:F100
CATEGORIES:Women
ATTACH;FMTTYPE=image/jpeg:https://www.broadmoor.org/wp-content/uploads/2025/12/DSC_0411-e1766525131410.jpg
END:VEVENT
BEGIN:VEVENT
DTSTART;TZID=America/Chicago:20260505T100000
DTEND;TZID=America/Chicago:20260505T113000
DTSTAMP:20260425T071159
CREATED:20251222T202830Z
LAST-MODIFIED:20251222T202851Z
UID:10009234-1777975200-1777980600@www.broadmoor.org
SUMMARY:Sarah Perkins WMU Group
DESCRIPTION:Join Debbie Campbell on the 1st Tuesday of the month at 10am in L202/220 as they discuss missions in the Southern Baptist Church and how to support missionaries. For more information\, contact the Women’s Ministry at 601-898-2345 or women@broadmoor.org.
URL:https://www.broadmoor.org/event/sarah-perkins-wmu-group-3/2026-05-05/
CATEGORIES:Womens Missions
ATTACH;FMTTYPE=image/jpeg:https://www.broadmoor.org/wp-content/uploads/2025/01/Sarah_Perkins_WMU.jpg
END:VEVENT
BEGIN:VEVENT
DTSTART;TZID=America/Chicago:20260505T180000
DTEND;TZID=America/Chicago:20260505T193000
DTSTAMP:20260425T071159
CREATED:20260309T190627Z
LAST-MODIFIED:20260309T203840Z
UID:10009694-1778004000-1778009400@www.broadmoor.org
SUMMARY:Men's Tuesday Night Small Group
DESCRIPTION:Our Men’s Tuesday Small Group is an open group where men can attend to find community and fellowship with other men from Broadmoor and our community. We meet every Tuesday from 6-7:30 pm in F100. This group is designed to be an entry-level group for men to explore groups and find community. Join us and invite a friend to be part of this new community!
URL:https://www.broadmoor.org/event/mens-tuesday-night-small-group/2026-05-05/
LOCATION:F100
CATEGORIES:Men
ATTACH;FMTTYPE=image/png:https://www.broadmoor.org/wp-content/uploads/2026/03/Event-Photo-2.png
END:VEVENT
BEGIN:VEVENT
DTSTART;TZID=America/Chicago:20260506T181500
DTEND;TZID=America/Chicago:20260506T193000
DTSTAMP:20260425T071159
CREATED:20251222T200649Z
LAST-MODIFIED:20260112T215359Z
UID:10009027-1778091300-1778095800@www.broadmoor.org
SUMMARY:Vicki Watson Women's Bible Study
DESCRIPTION:Vicki Watson & Laura Watrous lead an intergenerational group of women through Daniel: Lives of Integrity\, Words of Prophecy by Beth Moore. This group meets in Love 221 on campus each Wednesday night at 6:15 pm unless otherwise noted. For more information\, contact the Women’s Ministry at women@broadmoor.org or 601-898-2345.
URL:https://www.broadmoor.org/event/vicki-watson-womens-bible-study-2/2026-05-06/
LOCATION:Love 221
CATEGORIES:Wednesdays,Women
ATTACH;FMTTYPE=image/jpeg:https://www.broadmoor.org/wp-content/uploads/2024/07/53139027230_a12e9f43e7_k-2-e1722345785622.jpg
END:VEVENT
BEGIN:VEVENT
DTSTART;TZID=America/Chicago:20260506T181500
DTEND;TZID=America/Chicago:20260506T193000
DTSTAMP:20260425T071159
CREATED:20251222T200936Z
LAST-MODIFIED:20260108T212702Z
UID:10009058-1778091300-1778095800@www.broadmoor.org
SUMMARY:Single Moms Bible Study
DESCRIPTION:Join Pattie Armstrong & Sandra Horne as they study Motherhood Through God’s Perspective from 6:15-7:30 pm in L205. For more information\, contact the Women’s Ministry at women@broadmoor.org or 601-898-2345.
URL:https://www.broadmoor.org/event/single-moms-bible-study-2/2026-05-06/
CATEGORIES:Wednesdays,Women
ATTACH;FMTTYPE=image/png:https://www.broadmoor.org/wp-content/uploads/2025/07/SingleMomsStudy.png
END:VEVENT
BEGIN:VEVENT
DTSTART;TZID=America/Chicago:20260506T181500
DTEND;TZID=America/Chicago:20260506T193000
DTSTAMP:20260425T071159
CREATED:20251222T201243Z
LAST-MODIFIED:20260112T215548Z
UID:10009088-1778091300-1778095800@www.broadmoor.org
SUMMARY:Wednesdays Precept Bible Study
DESCRIPTION:Join Dodie Offerman\, Barbara Gross\, & Melinda Hendrix as they study the books of 2 Samuel\, Kings\, and Prophets 1 & 2 using the Precept Ministries model of learning scripture and content at 6:15 pm in L201/203. For more information\, contact the Women’s Ministry at women@broadmoor.org or 601-898-2345.
URL:https://www.broadmoor.org/event/precept-bible-study-2/2026-05-06/
LOCATION:Love 201/203\, 1531 Highland Colony Parkway\, Madison\, MS\, 39110\, United States
CATEGORIES:Wednesdays,Women
ATTACH;FMTTYPE=image/jpeg:https://www.broadmoor.org/wp-content/uploads/2025/12/10756eab-09a2-4ab6-9923-4e6f3fdcfd90-8B5A0911__preview__-e1768254685204.jpg
END:VEVENT
BEGIN:VEVENT
DTSTART;TZID=America/Chicago:20260506T181500
DTEND;TZID=America/Chicago:20260506T193000
DTSTAMP:20260425T071159
CREATED:20251222T221440Z
LAST-MODIFIED:20260305T211829Z
UID:10009273-1778091300-1778095800@www.broadmoor.org
SUMMARY:Men's Bible Study
DESCRIPTION:Join Jim McCay\, Jay Fletcher\, Rick Lachney\, and Brad Stubblefield on Wednesday Nights from 6:15 -7:30pm in the Community Room. For more information\, contact the Men’s Ministry at men@broadmoor.org or 601-898-2345.
URL:https://www.broadmoor.org/event/mens-bible-study-2/2026-05-06/
LOCATION:Community Room
CATEGORIES:Adults,Men,Wednesdays
ATTACH;FMTTYPE=image/jpeg:https://www.broadmoor.org/wp-content/uploads/2025/12/0f2de940-bf17-4603-869f-531a81cbabb3-8B5A0062__preview__.jpg
END:VEVENT
BEGIN:VEVENT
DTSTART;TZID=America/Chicago:20260506T181500
DTEND;TZID=America/Chicago:20260506T193000
DTSTAMP:20260425T071159
CREATED:20251222T221601Z
LAST-MODIFIED:20251222T221613Z
UID:10009304-1778091300-1778095800@www.broadmoor.org
SUMMARY:Shelter Ministry Support Group
DESCRIPTION:The Shelter Ministry Support Group is for anyone involved in foster care or adoption. Come find a safe place to open up about the joys and challenges of the journey. You’ll find encouragement in knowing the others in the room understand you and are walking the same road!
URL:https://www.broadmoor.org/event/shelter-ministry-support-group-2/2026-05-06/
LOCATION:Love 206
CATEGORIES:Care,Shelter,Wednesdays Care
ATTACH;FMTTYPE=image/jpeg:https://www.broadmoor.org/wp-content/uploads/2025/07/sincerely-media-dGxOgeXAXm8-unsplash-1-scaled-e1754000823302.jpg
END:VEVENT
BEGIN:VEVENT
DTSTART;TZID=America/Chicago:20260506T181500
DTEND;TZID=America/Chicago:20260506T193000
DTSTAMP:20260425T071159
CREATED:20251222T221718Z
LAST-MODIFIED:20251222T221741Z
UID:10009335-1778091300-1778095800@www.broadmoor.org
SUMMARY:Choir Rehearsal
DESCRIPTION:Join Johann Acuña for Worship Choir Rehearsal at 6:15 pm in the Choir Suite. The choir is a passionate group of singers who help lead congregational worship in Sunday services and special gatherings throughout the year. Open to adults of all ages\, the choir is a place for those who love to sing and want to use their gifts to serve the Lord.
URL:https://www.broadmoor.org/event/choir-rehearsal/2026-05-06/
LOCATION:Choir Suite
CATEGORIES:Wednesdays
ATTACH;FMTTYPE=image/jpeg:https://www.broadmoor.org/wp-content/uploads/2025/08/1dd1b393-7305-4a61-9f32-6e37cfb03831-img_9380_53813811570_o-e1754334115726.jpg
END:VEVENT
BEGIN:VEVENT
DTSTART;TZID=America/Chicago:20260506T181500
DTEND;TZID=America/Chicago:20260506T193000
DTSTAMP:20260425T071200
CREATED:20251222T221850Z
LAST-MODIFIED:20251222T221914Z
UID:10009366-1778091300-1778095800@www.broadmoor.org
SUMMARY:K4 & K5 Scriptures & Songs
DESCRIPTION:Join Preschool on Wednesday Nights from 6:15-7:30 pm for a fun evening filled with Bible stories\, music\, crafts\, and playtime as our youngest learners grow in their understanding of God’s love!
URL:https://www.broadmoor.org/event/k4-k5-scriptures-songs-2/2026-05-06/
LOCATION:Preschool
CATEGORIES:NextGen,Preschool,Wednesdays Nextgen
ATTACH;FMTTYPE=image/jpeg:https://www.broadmoor.org/wp-content/uploads/2025/07/53911007705_d3391c8639_k-e1754514787852.jpg
END:VEVENT
BEGIN:VEVENT
DTSTART;TZID=America/Chicago:20260506T181500
DTEND;TZID=America/Chicago:20260506T193000
DTSTAMP:20260425T071200
CREATED:20251222T222027Z
LAST-MODIFIED:20251222T222043Z
UID:10009399-1778091300-1778095800@www.broadmoor.org
SUMMARY:Discovery
DESCRIPTION:During Discovery on Wednesday nights your child will visit 3 different rotations: Bible skills\, snack and music. During Bible Skills kids will discover what God says about who He is and how He loves us! It is a night full of fun and learning that your child will not want to miss!
URL:https://www.broadmoor.org/event/discovery-2/2026-05-06/
LOCATION:Kidtown
CATEGORIES:Kids,NextGen,Wednesdays Nextgen
ATTACH;FMTTYPE=image/jpeg:https://www.broadmoor.org/wp-content/uploads/2025/04/53138816589_f18c075e2e_k-e1745876366426.jpg
END:VEVENT
BEGIN:VEVENT
DTSTART;TZID=America/Chicago:20260506T181500
DTEND;TZID=America/Chicago:20260506T193000
DTSTAMP:20260425T071200
CREATED:20251222T222241Z
LAST-MODIFIED:20260114T210836Z
UID:10009430-1778091300-1778095800@www.broadmoor.org
SUMMARY:5.1.7
DESCRIPTION:Join Middle School on Wednesday nights from 6:15-7:30 pm for a time of connection\, worship\, and bible teaching\, and practical application.
URL:https://www.broadmoor.org/event/5-1-7-2/2026-05-06/
LOCATION:Middle School 2nd Floor
CATEGORIES:Middle School,NextGen,Wednesdays Nextgen
ATTACH;FMTTYPE=image/jpeg:https://www.broadmoor.org/wp-content/uploads/2025/12/Image-5-e1768424903131.jpeg
END:VEVENT
BEGIN:VEVENT
DTSTART;TZID=America/Chicago:20260506T181500
DTEND;TZID=America/Chicago:20260506T193000
DTSTAMP:20260425T071200
CREATED:20251222T222343Z
LAST-MODIFIED:20251222T222358Z
UID:10009461-1778091300-1778095800@www.broadmoor.org
SUMMARY:THRIVE
DESCRIPTION:Join High School on Wednesday nights from 6:15-7:30 pm for a time of connection\, worship\, and bible teaching\, and practical application.
URL:https://www.broadmoor.org/event/thrive-2/2026-05-06/
LOCATION:3rd Floor Faith
CATEGORIES:High School,NextGen,Wednesdays Nextgen
ATTACH;FMTTYPE=image/jpeg:https://www.broadmoor.org/wp-content/uploads/2025/07/53910912514_af1587b6fa_k-e1753999011479.jpg
END:VEVENT
BEGIN:VEVENT
DTSTART;TZID=America/Chicago:20260506T181500
DTEND;TZID=America/Chicago:20260506T193000
DTSTAMP:20260425T071200
CREATED:20251222T222617Z
LAST-MODIFIED:20251223T203922Z
UID:10009485-1778091300-1778095800@www.broadmoor.org
SUMMARY:Revelation with Ben Gladd
DESCRIPTION:Join us for Revelation a captivating series with Dr. Ben Gladd starting January 14th through May 6th. from 6:15 -7:30 pm. Held on Wednesdays in The Venue\, this series will journey through one of the hardest books of the Bible to grasp. Dr. Gladd\, renowned for his insightful teaching and expertise\, will help us explore the themes of Revelation.
URL:https://www.broadmoor.org/event/revelation-with-ben-gladd/2026-05-06/
LOCATION:Venue
CATEGORIES:Adults,Wednesdays
ATTACH;FMTTYPE=image/jpeg:https://www.broadmoor.org/wp-content/uploads/2025/07/benjamin-gladd-executive-director-carson-center.jpg
END:VEVENT
BEGIN:VEVENT
DTSTART;TZID=America/Chicago:20260507T090000
DTEND;TZID=America/Chicago:20260507T110000
DTSTAMP:20260425T071200
CREATED:20260309T213454Z
LAST-MODIFIED:20260407T204513Z
UID:10009807-1778144400-1778151600@www.broadmoor.org
SUMMARY:Manna Women's Bible Study
DESCRIPTION:Kim Clark will lead this Women’s Ministry study this spring as they look at Anchored – The Life & Letters of the Apostle Peter by Marian Jordan Ellis from 9-11 am in room L221. For more information\, contact the Women’s Ministry at 601-898-2345 or women@broadmoor.org.
URL:https://www.broadmoor.org/event/manna-womens-bible-study-2/2026-05-07/
LOCATION:Love 221
CATEGORIES:Adults,Women
ATTACH;FMTTYPE=image/png:https://www.broadmoor.org/wp-content/uploads/2025/07/Manna-Bible-Study.png
END:VEVENT
BEGIN:VEVENT
DTSTART;TZID=America/Chicago:20260507T100000
DTEND;TZID=America/Chicago:20260507T120000
DTSTAMP:20260425T071200
CREATED:20251222T202351Z
LAST-MODIFIED:20260407T204719Z
UID:10009563-1778148000-1778155200@www.broadmoor.org
SUMMARY:Thursdays Precept Bible Study
DESCRIPTION:Join Dodie Offerman as she leads a study of 2 Samuel\, Kings\, and Prophets 1 & 2 using the Precept model of Bible study at 10 am in L201/203. For more information\, contact the Women’s Ministry at women@broadmoor.org or 601-898-2345.
URL:https://www.broadmoor.org/event/precept-bible-study-3-2/2026-05-07/
LOCATION:Love 201/203\, 1531 Highland Colony Parkway\, Madison\, MS\, 39110\, United States
CATEGORIES:Adults,Women
ATTACH;FMTTYPE=image/png:https://www.broadmoor.org/wp-content/uploads/2025/07/Precept-Bible-Study.png
END:VEVENT
BEGIN:VEVENT
DTSTART;TZID=America/Chicago:20260511T103000
DTEND;TZID=America/Chicago:20260511T120000
DTSTAMP:20260425T071200
CREATED:20260203T200030Z
LAST-MODIFIED:20260203T200316Z
UID:10009657-1778495400-1778500800@www.broadmoor.org
SUMMARY:Senior Adult Game Day
DESCRIPTION:Senior Adult Game Day is a monthly event where senior adults can come together\, connect with others\, and have some fun. We’ll have plenty of games\, great conversation\, and delicious free Domino’s Pizza. No registration is required – just show up and be ready for a great time! Join us the 2nd Monday of every month from January to October\, 10:30 am – 12 pm\, in the Community Room.
URL:https://www.broadmoor.org/event/senior-adult-game-day/2026-05-11/
LOCATION:Community Room
CATEGORIES:Adults,Seniors
ATTACH;FMTTYPE=image/png:https://www.broadmoor.org/wp-content/uploads/2026/02/Event-Photo.png
END:VEVENT
BEGIN:VEVENT
DTSTART;TZID=America/Chicago:20260511T120000
DTEND;TZID=America/Chicago:20260511T130000
DTSTAMP:20260425T071200
CREATED:20251222T202637Z
LAST-MODIFIED:20260112T214536Z
UID:10009227-1778500800-1778504400@www.broadmoor.org
SUMMARY:Women in Action WMU Group
DESCRIPTION:Join Barbara Mangrum in L221 at 12 pm on the 2nd Monday of each month as the Women In Action look at missions around the world and how they can support those on mission. For more information\, contact the Women’s Ministry at 601-898-2345 or women@broadmoor.org.
URL:https://www.broadmoor.org/event/women-in-action-wmu-group/2026-05-11/
LOCATION:Love 221
CATEGORIES:Womens Missions
ATTACH;FMTTYPE=image/png:https://www.broadmoor.org/wp-content/uploads/2025/04/WomenInAction.png
END:VEVENT
BEGIN:VEVENT
DTSTART;TZID=America/Chicago:20260511T180000
DTEND;TZID=America/Chicago:20260511T193000
DTSTAMP:20260425T071200
CREATED:20251007T142707Z
LAST-MODIFIED:20251007T154218Z
UID:10008924-1778522400-1778527800@www.broadmoor.org
SUMMARY:Alzheimer's/Dementia Support Group
DESCRIPTION:If you’re a caregiver for someone with Alzheimer’s or another form of dementia\, you don’t have to walk this journey alone. Join leaders Jane Goff and Karen Rothe each month in the Gathering Room for a time of encouragement\, learning\, and connection with others who understand. \nThe group meets on the second Monday of each month from 6:00 to 7:30 pm. Each session begins with a 30-minute guest speaker or discussion leader\, followed by open conversation\, Q&A\, and fellowship. Speakers are selected based on the group’s developing needs\, offering relevant and practical insight for caregivers. \nThis group is open to caregivers only to ensure a safe and focused environment. All dementia caregivers are welcome—whether you’re caring for someone with Alzheimer’s\, Parkinson’s\, Lewy Body\, stroke-related dementia\, or another form of memory loss. \nFor more information\, please reach out to dementia@broadmoor.org.
URL:https://www.broadmoor.org/event/alzheimers-dementia-support-group/2026-05-11/
LOCATION:Gathering Room
CATEGORIES:Care
ATTACH;FMTTYPE=image/jpeg:https://www.broadmoor.org/wp-content/uploads/2025/10/omid-WOfPQHSgb1Y-unsplash-scaled.jpg
END:VEVENT
BEGIN:VEVENT
DTSTART;TZID=America/Chicago:20260511T180000
DTEND;TZID=America/Chicago:20260511T200000
DTSTAMP:20260425T071200
CREATED:20260413T183723Z
LAST-MODIFIED:20260413T183723Z
UID:10009810-1778522400-1778529600@www.broadmoor.org
SUMMARY:College Connection
DESCRIPTION:College Connection is a weekly gathering for college students to fellowship\, share a meal\, and dive into Bible Study together. Starting May 4th and running every Monday night through August 10th (except May 25th and July 6th)\, we’ll be meeting in a host home to connect and grow together. Our goal is to provide a space for college students to develop a lifestyle of worship\, be involved in a group to know and be known\, serve the church and our communities\, and abide in a personal relationship with Jesus Christ through daily Bible study\, prayer\, and reflection. \nTo learn more reach out to college@broadmoor.org.
URL:https://www.broadmoor.org/event/college-connection/2026-05-11/
CATEGORIES:College
ATTACH;FMTTYPE=image/png:https://www.broadmoor.org/wp-content/uploads/2026/04/Event-Photo.png
END:VEVENT
BEGIN:VEVENT
DTSTART;TZID=America/Chicago:20260512T093000
DTEND;TZID=America/Chicago:20260512T103000
DTSTAMP:20260425T071200
CREATED:20250720T224455Z
LAST-MODIFIED:20260407T204626Z
UID:10008888-1778578200-1778581800@www.broadmoor.org
SUMMARY:Rebecca Williams WMU Group
DESCRIPTION:Join Lois McMullan in the Gathering Room (previously the Fireside Room) at 9:30 am on the 2nd Tuesday each month as she facilitates a conversation about missions\, the missionaries on the field\, and ways to support them. For more information\, contact the Women’s Ministry at 601-898-2345 or women@broadmoor.org.
URL:https://www.broadmoor.org/event/rebecca-williams-wmu-group/2026-05-12/
LOCATION:Gathering Room
CATEGORIES:Womens Missions
ATTACH;FMTTYPE=image/jpeg:https://www.broadmoor.org/wp-content/uploads/2024/11/centre-for-ageing-better-IUFueyLiB2s-unsplash-scaled-e1722871157930.jpg
END:VEVENT
BEGIN:VEVENT
DTSTART;TZID=America/Chicago:20260601T080000
DTEND;TZID=America/Chicago:20260605T120000
DTSTAMP:20260425T071200
CREATED:20260225T173556Z
LAST-MODIFIED:20260402T161025Z
UID:10009679-1780300800-1780660800@www.broadmoor.org
SUMMARY:WOW Week 2026
DESCRIPTION:Get ready for an unforgettable adventure at Broadmoor’s WOW Week 2026\, happening June 1st-5th from 8 am-12 pm! This free Vacation Bible School experience is designed for K5 through 5th grade completed\, and is packed with music\, recreation\, snacks\, arts & crafts\, and so much more – all while learning to let our light shine. Space is limited\, so click HERE to register today! \n  \nWe also need volunteers to help make WOW Week a success. Click one of the links below to sign up as a volunteer! \nClick HERE to sign up as an Adult Volunteer \nClick HERE to sign up as a Student Volunteer (8th-12th Grade) \n  \nLooking for WOW Week Grace? Click HERE for more information! \n  \nTo learn everything you need to know for the week of WOW Week\, visit wowweek.org. \nIf you have any questions\, please email kids@broadmoor.org.
URL:https://www.broadmoor.org/event/wow-week-2026/
CATEGORIES:Adults,High School,HSSummer,Kids,KidsSummer,Middle School,MSSummer,NextGen,Summer,WOW Week
ATTACH;FMTTYPE=image/jpeg:https://www.broadmoor.org/wp-content/uploads/2026/02/aa465da4-c1ad-4380-89c4-5da7aca11d35-DSC_5185__preview__-1-e1772046967945.jpg
END:VEVENT
BEGIN:VEVENT
DTSTART;TZID=America/Chicago:20260601T180000
DTEND;TZID=America/Chicago:20260603T200000
DTSTAMP:20260425T071200
CREATED:20260226T201255Z
LAST-MODIFIED:20260226T224456Z
UID:10009680-1780336800-1780516800@www.broadmoor.org
SUMMARY:Grace Ministry WOW Week
DESCRIPTION:Join us for an unforgettable adventure at Grace Ministry WOW Week\, a special vacation Bible school experience designed just for individuals with special needs! Join us on June 1st-3rd from 6 to 8 pm for an exciting journey of discovery\, friendship\, and fun\, as we explore the Light of the World together. Click HERE to register!
URL:https://www.broadmoor.org/event/grace-ministry-wow-week-2/
CATEGORIES:Grace,Summer
ATTACH;FMTTYPE=image/jpeg:https://www.broadmoor.org/wp-content/uploads/2026/02/53139466969_56d202593c_k-e1772138649848.jpg
END:VEVENT
BEGIN:VEVENT
DTSTART;TZID=America/Chicago:20260611T090000
DTEND;TZID=America/Chicago:20260611T110000
DTSTAMP:20260425T071200
CREATED:20260225T163105Z
LAST-MODIFIED:20260226T224417Z
UID:10009673-1781168400-1781175600@www.broadmoor.org
SUMMARY:Playground Parties
DESCRIPTION:Playground Parties at Broadmoor Baptist Church are open play times for preschool families. Join us Thursday June 11th\, June 25th\, and July 16th from 9-11 am for a morning of play\, connection\, and fun. We’ll provide simple summer activities like bubbles\, chalk\, water games\, and treats. This is a great opportunity for you to connect with other families and build community. Mark your calendars and join the fun! Registration is requested so click HERE to register your family.
URL:https://www.broadmoor.org/event/playground-parties/2026-06-11/
CATEGORIES:NextGen,Preschool,PreschoolSummer,Summer
ATTACH;FMTTYPE=image/png:https://www.broadmoor.org/wp-content/uploads/2026/02/Event-Photo-9.png
END:VEVENT
BEGIN:VEVENT
DTSTART;TZID=America/Chicago:20260612T233000
DTEND;TZID=America/Chicago:20260617T220000
DTSTAMP:20260425T071200
CREATED:20260218T160722Z
LAST-MODIFIED:20260218T160722Z
UID:10009667-1781307000-1781733600@www.broadmoor.org
SUMMARY:FUGE Camp
DESCRIPTION:FUGE Camp 2026 is a week-long experience for middle schoolers to grow in their faith and make lifelong friends. Our theme this year is ‘The Good Shepherd’ – students will dive into Psalm 23 and the life of David\, focusing on Jesus as our guide\, provider\, and protector. \nJoin us June 12th-17th in Ridgecrest\, NC for an unforgettable week of fellowship\, worship\, teaching\, and fun! Cost is $450\, with a $100 deposit due at registration. Click HERE to register!
URL:https://www.broadmoor.org/event/fuge-camp/
LOCATION:Ridgecrest\, NC
CATEGORIES:Middle School,MSSummer,Summer
ATTACH;FMTTYPE=image/png:https://www.broadmoor.org/wp-content/uploads/2026/02/Event-Photo-3.png
END:VEVENT
BEGIN:VEVENT
DTSTART;TZID=America/Chicago:20260616T090000
DTEND;TZID=America/Chicago:20260616T120000
DTSTAMP:20260425T071200
CREATED:20260225T163645Z
LAST-MODIFIED:20260225T163734Z
UID:10009676-1781600400-1781611200@www.broadmoor.org
SUMMARY:Terrific Tuesdays
DESCRIPTION:Terrific Tuesdays is a fun-filled summer program designed for preschoolers ages 2 to kindergarten completion. The program takes place on June 16th\, June 30th\, and July 21st from 9 am-12 pm\, and the cost is $20 per child. At Terrific Tuesdays\, your child will have the opportunity to make new friends\, learn\, and grow in a safe and nurturing environment\, while you enjoy some well-deserved quiet time. We invite you to join us for an unforgettable summer experience! Space is limited\, so click HERE to register now.
URL:https://www.broadmoor.org/event/terrific-tuesdays/2026-06-16/
LOCATION:Preschool Area
CATEGORIES:NextGen,Preschool,PreschoolSummer,Summer
ATTACH;FMTTYPE=image/png:https://www.broadmoor.org/wp-content/uploads/2026/02/Event-Photo-10.png
END:VEVENT
BEGIN:VEVENT
DTSTART;TZID=America/Chicago:20260618T080000
DTEND;TZID=America/Chicago:20260620T170000
DTSTAMP:20260425T071200
CREATED:20260219T212410Z
LAST-MODIFIED:20260224T213903Z
UID:10009669-1781769600-1781974800@www.broadmoor.org
SUMMARY:The Leap
DESCRIPTION:The Leap 2026 is an intentional celebration retreat for 5th graders as they transition to 6th grade. During one of the most significant transition moments in life\, Broadmoor Baptist Church comes alongside parents and students to help them understand what growing as a disciple of Christ looks like. The retreat will be held June 18th-20th at Camp Tanglewood near Lake\, MS. At least one parent is encouraged to join us on Saturday\, June 20th\, to meet our middle school staff\, hear about the awesome opportunities available for your middle schooler\, and enjoy a special time of prayer and celebration together. This is a really sweet time for you and your 5th grader to take the leap into 6th grade with confidence and faith. Register HERE by June 16th!
URL:https://www.broadmoor.org/event/the-leap-2/
LOCATION:Camp Tanglewood
CATEGORIES:Kids,KidsSummer,NextGen,Summer
ATTACH;FMTTYPE=image/png:https://www.broadmoor.org/wp-content/uploads/2026/02/Event-Photo-5.png
END:VEVENT
BEGIN:VEVENT
DTSTART;TZID=America/Chicago:20260618T140000
DTEND;TZID=America/Chicago:20260621T120000
DTSTAMP:20260425T071200
CREATED:20260218T193028Z
LAST-MODIFIED:20260218T193028Z
UID:10009668-1781791200-1782043200@www.broadmoor.org
SUMMARY:High School Retreat
DESCRIPTION:The High School Retreat 2026 is a 4-day event for 9th-12th grade students\, taking place on June 18th-21st at Camp Tanglewood in Lawrence\, MS. This year’s theme\, Walk in the Light\, will take us on a journey through the book of 1 John. The retreat is designed to be a fun and engaging experience\, with opportunities for worship\, games\, and community-building. Click HERE to register.
URL:https://www.broadmoor.org/event/high-school-retreat-2/
LOCATION:Camp Tanglewood
CATEGORIES:High School,HSSummer,Summer
ATTACH;FMTTYPE=image/png:https://www.broadmoor.org/wp-content/uploads/2026/02/Event-Photo-4.png
END:VEVENT
BEGIN:VEVENT
DTSTART;TZID=America/Chicago:20260622T074500
DTEND;TZID=America/Chicago:20260626T120000
DTSTAMP:20260425T071200
CREATED:20260224T205947Z
LAST-MODIFIED:20260224T210034Z
UID:10009672-1782114300-1782475200@www.broadmoor.org
SUMMARY:Connect Camps
DESCRIPTION:Connect Camps will be an unforgettable week of faith\, fun\, and friendship for our K5-5th grade completed kids. From June 22nd-26th\, our campers will experience daily faith-based lessons\, engaging activities\, and non-stop fun. Monday-Thursday\, 7:45 am-5 pm\, and a half-day on Friday\, Connect Camps is the perfect opportunity for your kids to grow in their faith and make lasting friendships. Click HERE to register and secure your spot!
URL:https://www.broadmoor.org/event/connect-camps/
CATEGORIES:Kids,KidsSummer,NextGen,Summer
ATTACH;FMTTYPE=image/png:https://www.broadmoor.org/wp-content/uploads/2026/02/Event-Photo-8.png
END:VEVENT
END:VCALENDAR