BEGIN:VCALENDAR
VERSION:2.0
PRODID:-//Broadmoor Baptist Church - ECPv6.15.20//NONSGML v1.0//EN
CALSCALE:GREGORIAN
METHOD:PUBLISH
X-WR-CALNAME:Broadmoor Baptist Church
X-ORIGINAL-URL:https://www.broadmoor.org
X-WR-CALDESC:Events for Broadmoor Baptist Church
REFRESH-INTERVAL;VALUE=DURATION:PT1H
X-Robots-Tag:noindex
X-PUBLISHED-TTL:PT1H
BEGIN:VTIMEZONE
TZID:America/Chicago
BEGIN:DAYLIGHT
TZOFFSETFROM:-0600
TZOFFSETTO:-0500
TZNAME:CDT
DTSTART:20220313T080000
END:DAYLIGHT
BEGIN:STANDARD
TZOFFSETFROM:-0500
TZOFFSETTO:-0600
TZNAME:CST
DTSTART:20221106T070000
END:STANDARD
BEGIN:DAYLIGHT
TZOFFSETFROM:-0600
TZOFFSETTO:-0500
TZNAME:CDT
DTSTART:20230312T080000
END:DAYLIGHT
BEGIN:STANDARD
TZOFFSETFROM:-0500
TZOFFSETTO:-0600
TZNAME:CST
DTSTART:20231105T070000
END:STANDARD
BEGIN:DAYLIGHT
TZOFFSETFROM:-0600
TZOFFSETTO:-0500
TZNAME:CDT
DTSTART:20240310T080000
END:DAYLIGHT
BEGIN:STANDARD
TZOFFSETFROM:-0500
TZOFFSETTO:-0600
TZNAME:CST
DTSTART:20241103T070000
END:STANDARD
BEGIN:DAYLIGHT
TZOFFSETFROM:-0600
TZOFFSETTO:-0500
TZNAME:CDT
DTSTART:20250309T080000
END:DAYLIGHT
BEGIN:STANDARD
TZOFFSETFROM:-0500
TZOFFSETTO:-0600
TZNAME:CST
DTSTART:20251102T070000
END:STANDARD
BEGIN:DAYLIGHT
TZOFFSETFROM:-0600
TZOFFSETTO:-0500
TZNAME:CDT
DTSTART:20260308T080000
END:DAYLIGHT
BEGIN:STANDARD
TZOFFSETFROM:-0500
TZOFFSETTO:-0600
TZNAME:CST
DTSTART:20261101T070000
END:STANDARD
END:VTIMEZONE
BEGIN:VEVENT
DTSTART;TZID=America/Chicago:20251214T180000
DTEND;TZID=America/Chicago:20251214T200000
DTSTAMP:20260422T064948
CREATED:20251202T221925Z
LAST-MODIFIED:20251203T154635Z
UID:10008947-1765735200-1765742400@www.broadmoor.org
SUMMARY:College Christmas Party
DESCRIPTION:Get ready for a night of fun\, fellowship\, and celebration at Broadmoor Baptist Church’s College Christmas Party! Join us on December 14th from 6-8pm at the Hansen home for an unforgettable evening of games\, food\, and community. Bring a friend\, a canned good to support Hopeful Community Outreach\, and a Dirty Santa gift ($15-$20 limit). Meet at 5pm at Broadmoor if you need a ride. Register HERE today!
URL:https://www.broadmoor.org/event/college-christmas-party-2/
CATEGORIES:Christmas,College
ATTACH;FMTTYPE=image/jpeg:https://www.broadmoor.org/wp-content/uploads/2025/05/DSC00590-scaled-e1747165825866.jpg
END:VEVENT
BEGIN:VEVENT
DTSTART;TZID=America/Chicago:20251125T180000
DTEND;TZID=America/Chicago:20251125T203000
DTSTAMP:20260422T064948
CREATED:20251111T232032Z
LAST-MODIFIED:20251111T232032Z
UID:10008942-1764093600-1764102600@www.broadmoor.org
SUMMARY:College Friendsgiving
DESCRIPTION:Join us for College Friendsgiving 2025\, a fantastic evening of food\, friends\, and fellowship! On November 25th\, from 6-8:30 pm\, we’ll gather to share a meal\, connect with each other\, and make some unforgettable memories. Bring a friend\, bring a dessert or appetizer to share\, and be ready for a wonderful time. This event is a great opportunity to meet new people\, catch up with friends\, and enjoy some delicious food together. Register HERE today!
URL:https://www.broadmoor.org/event/college-friendsgiving/
CATEGORIES:College
ATTACH;FMTTYPE=image/png:https://www.broadmoor.org/wp-content/uploads/2025/11/Event-Photo_.png
END:VEVENT
BEGIN:VEVENT
DTSTART;TZID=America/Chicago:20250811T180000
DTEND;TZID=America/Chicago:20250811T200000
DTSTAMP:20260422T064948
CREATED:20250513T195034Z
LAST-MODIFIED:20250513T202203Z
UID:10007396-1754935200-1754942400@www.broadmoor.org
SUMMARY:College Connection
DESCRIPTION:Looking for a place to belong this summer? College Connection meets every Monday night at 6pm and is the perfect space for college-aged young adults to grow in faith and community. Broadmoor families open their homes each week to host dinner\, Bible study\, and real conversation. Come as you are\, bring a friend\, and be part of something meaningful all summer long. \nFor more information about where College Connection will meet each week\, please email college@broadmoor.org.
URL:https://www.broadmoor.org/event/college-connections/2025-08-11/
CATEGORIES:College
ATTACH;FMTTYPE=image/jpeg:https://www.broadmoor.org/wp-content/uploads/2025/05/DSC00590-scaled-e1747165825866.jpg
END:VEVENT
BEGIN:VEVENT
DTSTART;VALUE=DATE:20250713
DTEND;VALUE=DATE:20250715
DTSTAMP:20260422T064948
CREATED:20250428T210458Z
LAST-MODIFIED:20250710T195137Z
UID:10007377-1752386400-1752472799@www.broadmoor.org
SUMMARY:College Kayaking/Canoeing Trip
DESCRIPTION:Escape the summer heat and join fellow college students on Sunday\, July 13 for a great day on the water! Broadmoor’s annual College Kayaking/Canoeing Trip returns with a full day of adventure on the scenic Okatoma River.\nWhat to Expect:\n\nChoose between kayaking or canoeing (equipment provided)\nEnjoy fellowship and create lasting memories\n\nImportant Details:\n\nCost: $30\nRegistration Deadline: Wednesday\, July 9\nWhat to Bring: Swimwear\, towel\, change of clothes\, water shoes\, sunscreen\, and money.\n\nSpace is limited! Register Now!
URL:https://www.broadmoor.org/event/college-kayaking-canoeing-trip/
CATEGORIES:College,Summer
ATTACH;FMTTYPE=image/png:https://www.broadmoor.org/wp-content/uploads/2025/04/Event-Photo_-2.png
END:VEVENT
BEGIN:VEVENT
DTSTART;VALUE=DATE:20250627
DTEND;VALUE=DATE:20250630
DTSTAMP:20260422T064948
CREATED:20250428T212855Z
LAST-MODIFIED:20250428T220642Z
UID:10007378-1751004000-1751176799@www.broadmoor.org
SUMMARY:College FGO Weekend
DESCRIPTION:FGO Weekend—For Guys Only and For Gals Only—is all about real connection\, shared experiences\, and growing together in faith. It’s a chance to step away from the everyday and into a space that encourages vulnerability\, support\, and spiritual growth. Guys will dive into some classic “dude stuff\,” while the ladies enjoy a unique experience of their own. Whether you’re new or you’ve been around for a while\, this weekend is for you. Don’t miss it\, register HERE today! \nImportant Details:\n\nDates: June 27-28\nCost: $30\nRegistration Deadline: Sunday\, June 15
URL:https://www.broadmoor.org/event/college-fgo-weekend/
CATEGORIES:College,Summer
ATTACH;FMTTYPE=image/png:https://www.broadmoor.org/wp-content/uploads/2025/04/Event-Photo_-4.png
END:VEVENT
BEGIN:VEVENT
DTSTART;VALUE=DATE:20250529
DTEND;VALUE=DATE:20250603
DTSTAMP:20260422T064948
CREATED:20250228T140031Z
LAST-MODIFIED:20250304T191349Z
UID:10003498-1748498400-1748843999@www.broadmoor.org
SUMMARY:Smith Lake Trip for College Students
DESCRIPTION:Join us for a fun weekend at Smith Lake in North Alabama from May 29 – June 1\, 2025. There will be plenty of boating and fun for all! The cost is $199 before May 5\, which includes lodging\, transportation\, meals\, and activities. This price increases to $235 after May 5. \nRegister HERE
URL:https://www.broadmoor.org/event/smith-lake-college-trip/
CATEGORIES:College
ATTACH;FMTTYPE=image/png:https://www.broadmoor.org/wp-content/uploads/2023/05/SmithLakeSlide-copy.png
END:VEVENT
BEGIN:VEVENT
DTSTART;TZID=America/Chicago:20250513T180000
DTEND;TZID=America/Chicago:20250513T200000
DTSTAMP:20260422T064948
CREATED:20250422T221014Z
LAST-MODIFIED:20250424T201622Z
UID:10007376-1747159200-1747166400@www.broadmoor.org
SUMMARY:College Top Golf Night
DESCRIPTION:Join us for an evening of friendly competition\, perfect drives\, and great company at Top Golf on Tuesday\, May 13th\, from 6:00 to 8:00 PM. \nEVENT HIGHLIGHTS: \n\n$15 golf play for all registered participants\nNo experience necessary – beginners welcome!\nBring friends and make new ones\nFood and beverages included!\nCasual\, fun atmosphere\n\nRegistration is required as spots are limited. Sign up HERE to reserve your spot!
URL:https://www.broadmoor.org/event/college-top-golf-night/
CATEGORIES:College,Summer
ATTACH;FMTTYPE=image/png:https://www.broadmoor.org/wp-content/uploads/2025/04/Event-Photo_-1.png
END:VEVENT
BEGIN:VEVENT
DTSTART;TZID=America/Chicago:20250330T121500
DTEND;TZID=America/Chicago:20250330T140000
DTSTAMP:20260422T064948
CREATED:20250314T124702Z
LAST-MODIFIED:20250317T205042Z
UID:10007317-1743336900-1743343200@www.broadmoor.org
SUMMARY:High School Seniors & Parents Lunch
DESCRIPTION:The transition from high school to college represents one of life’s significant milestones—full of excitement\, new opportunities\, and yes\, some challenges too.\nYou’re Invited!\n\nWhat: College Ministry High School Senior/Parent Lunch\nWhen: Sunday\, March 30\, 12:15PM\nWhere: The Venue 101\nWho: High School Seniors and their parents\n\nDuring this special lunch event\, you’ll discover how Broadmoor’s College Ministry continues to walk alongside students through their college experience. Our team is committed to helping students maintain and strengthen their faith during these formative years.\nWe’ll share practical information about:\n\nCampus ministry partnerships\nCare packages and ongoing support\nOpportunities to stay connected during breaks\nResources for finding Christian community on campus\n\nThis is a wonderful opportunity to ask questions\, connect with other families\, and prepare for this exciting transition together. To register\, click HERE.
URL:https://www.broadmoor.org/event/seniors-parents-lunch/
LOCATION:The Venue
CATEGORIES:College,High School
ATTACH;FMTTYPE=image/png:https://www.broadmoor.org/wp-content/uploads/2025/03/Event-Photo_-5.png
END:VEVENT
BEGIN:VEVENT
DTSTART;VALUE=DATE:20250102
DTEND;VALUE=DATE:20250106
DTSTAMP:20260422T064948
CREATED:20240625T203858Z
LAST-MODIFIED:20240930T130957Z
UID:10004528-1735797600-1736056799@www.broadmoor.org
SUMMARY:Passion 2025
DESCRIPTION:Join us for Passion 2025\, a gathering of 18 to 25-year-olds\, all united for Jesus. Join us as we gather a generation to once again collectively declare “Yes\, Lord!” Passion is for College students and High School seniors\, held in Atlanta\, GA on January 2 – 4\, 2025. The cost is $365 and while registration is currently full\, you can join our waitlist HERE.
URL:https://www.broadmoor.org/event/passion-2025/
CATEGORIES:College,High School
ATTACH;FMTTYPE=image/png:https://www.broadmoor.org/wp-content/uploads/2024/06/Passion_SlideandSocialPassion-Slide-copy.png
END:VEVENT
BEGIN:VEVENT
DTSTART;TZID=America/Chicago:20241217T180000
DTEND;TZID=America/Chicago:20241217T210000
DTSTAMP:20260422T064948
CREATED:20241209T142228Z
LAST-MODIFIED:20241209T142411Z
UID:10006703-1734458400-1734469200@www.broadmoor.org
SUMMARY:College Christmas Party
DESCRIPTION:Calling all college students! You’re invited to our annual party\, full of food and fun\, on December 17 at 6pm at the Johnston house. For more information\, reach out to our College Ministry.
URL:https://www.broadmoor.org/event/college-christmas-party/
CATEGORIES:Christmas,College
ATTACH;FMTTYPE=image/png:https://www.broadmoor.org/wp-content/uploads/2024/12/Slide-22.png
END:VEVENT
BEGIN:VEVENT
DTSTART;VALUE=DATE:20240311
DTEND;VALUE=DATE:20240317
DTSTAMP:20260422T064948
CREATED:20231026T165714Z
LAST-MODIFIED:20231026T165729Z
UID:10003954-1710136800-1710568799@www.broadmoor.org
SUMMARY:2024 College Ski Trip
DESCRIPTION:Come ski the slopes of Snowshoe Mountain\, West Virginia one March 11 – 15\, 2024. The cost is $799 and includes lift tickets\, lodging\, transportation\, equipment rental and most meals. A $125 non-refundable deposit due by November 20. Sign up HERE.
URL:https://www.broadmoor.org/event/college-ski-trip/
CATEGORIES:College
ATTACH;FMTTYPE=image/jpeg:https://www.broadmoor.org/wp-content/uploads/2022/09/colton-duke-nagznm30g44-unsplash-scaled-e1662662730820.jpg
END:VEVENT
BEGIN:VEVENT
DTSTART;VALUE=DATE:20240308
DTEND;VALUE=DATE:20240312
DTSTAMP:20260422T064948
CREATED:20231026T182812Z
LAST-MODIFIED:20231026T183028Z
UID:10003955-1709877600-1710136799@www.broadmoor.org
SUMMARY:Jonestown\, MS College Mission Trip
DESCRIPTION:Join us as we travel to the Delta to work alongside But God Ministries in Jonestown\, MS. \nThe cost is $60\, which includes lodging\, transportation\, and meals. \nSign up HERE by February 16.
URL:https://www.broadmoor.org/event/jonestown-ms-college-mission-trip/
CATEGORIES:College
ATTACH;FMTTYPE=image/jpeg:https://www.broadmoor.org/wp-content/uploads/2023/10/Jonestown_Coahoma_County_Mississippi-scaled-e1698344822405.jpg
END:VEVENT
BEGIN:VEVENT
DTSTART;VALUE=DATE:20240103
DTEND;VALUE=DATE:20240107
DTSTAMP:20260422T064948
CREATED:20231023T145348Z
LAST-MODIFIED:20231211T162133Z
UID:10003950-1704261600-1704520799@www.broadmoor.org
SUMMARY:Passion 2024
DESCRIPTION:Broadmoor College and High School Seniors\, join us on January 3–5\, 2024 for Passion 2024. We will travel to Atlanta\, Georgia and meet up with other students for an intense 3 days of worship and study with some of the most popular worship leaders and insightful speakers today. It is sure to be an unforgettable time! \nThe cost is $350\, including lodging\, transportation\, and conference ticket. Spots are limited so sign up today!
URL:https://www.broadmoor.org/event/passion-2024/
CATEGORIES:College,High School
END:VEVENT
BEGIN:VEVENT
DTSTART;TZID=America/Chicago:20230906T181500
DTEND;TZID=America/Chicago:20230906T193000
DTSTAMP:20260422T064948
CREATED:20230817T134039Z
LAST-MODIFIED:20230817T200941Z
UID:10003926-1694024100-1694028600@www.broadmoor.org
SUMMARY:Creative Arts Team Night
DESCRIPTION:Come find out what being a part of the Creative Arts team is all about! Whether you play an instrument\, can carry a tune\, know your way around a camera\, or just want to serve in a creative way\, there’s a place for everyone\, no matter their age or stage of life. If serving this way sounds like something you’re interested in\, we would love for you to join us for Creative Arts Team Night. Join us on September 6 at 6:15pm in the Worship Center as we look at what it means to serve on the team. Also\, Pastor Josh will be there to explain his vision for the future of Creative Arts at Broadmoor. For any questions\, email Creative Arts.
URL:https://www.broadmoor.org/event/creative-arts-team-night/
LOCATION:Worship Center
CATEGORIES:Adults,College,Creative Arts,High School
ATTACH;FMTTYPE=image/jpeg:https://www.broadmoor.org/wp-content/uploads/2023/08/52484304070_892d167c96_k-1-e1692277259593.jpg
END:VEVENT
END:VCALENDAR