BEGIN:VCALENDAR
VERSION:2.0
PRODID:-//Broadmoor Baptist Church - ECPv6.15.20//NONSGML v1.0//EN
CALSCALE:GREGORIAN
METHOD:PUBLISH
X-ORIGINAL-URL:https://www.broadmoor.org
X-WR-CALDESC:Events for Broadmoor Baptist Church
REFRESH-INTERVAL;VALUE=DURATION:PT1H
X-Robots-Tag:noindex
X-PUBLISHED-TTL:PT1H
BEGIN:VTIMEZONE
TZID:America/Chicago
BEGIN:DAYLIGHT
TZOFFSETFROM:-0600
TZOFFSETTO:-0500
TZNAME:CDT
DTSTART:20250309T080000
END:DAYLIGHT
BEGIN:STANDARD
TZOFFSETFROM:-0500
TZOFFSETTO:-0600
TZNAME:CST
DTSTART:20251102T070000
END:STANDARD
BEGIN:DAYLIGHT
TZOFFSETFROM:-0600
TZOFFSETTO:-0500
TZNAME:CDT
DTSTART:20260308T080000
END:DAYLIGHT
BEGIN:STANDARD
TZOFFSETFROM:-0500
TZOFFSETTO:-0600
TZNAME:CST
DTSTART:20261101T070000
END:STANDARD
BEGIN:DAYLIGHT
TZOFFSETFROM:-0600
TZOFFSETTO:-0500
TZNAME:CDT
DTSTART:20270314T080000
END:DAYLIGHT
BEGIN:STANDARD
TZOFFSETFROM:-0500
TZOFFSETTO:-0600
TZNAME:CST
DTSTART:20271107T070000
END:STANDARD
END:VTIMEZONE
BEGIN:VEVENT
DTSTART;TZID=America/Chicago:20260421T083000
DTEND;TZID=America/Chicago:20260421T093000
DTSTAMP:20260421T080051
CREATED:20251222T225333Z
LAST-MODIFIED:20260212T180757Z
UID:10009539-1776760200-1776763800@www.broadmoor.org
SUMMARY:Moms in Prayer
DESCRIPTION:Moms in Prayer is a weekly meeting where mothers can gather to pray for their kids and schools. Led by Pattie Armstrong\, this meeting will take place every Tuesday from January 13th to May 18th\, 8:30-9:30 am in F100. We invite all mothers from across the Madison County community to join us as we seek to make a meaningful impact in the lives of our children and schools through prayer.
URL:https://www.broadmoor.org/event/moms-in-prayer-2/2026-04-21/
LOCATION:F100
CATEGORIES:Women
ATTACH;FMTTYPE=image/jpeg:https://www.broadmoor.org/wp-content/uploads/2025/12/DSC_0411-e1766525131410.jpg
END:VEVENT
BEGIN:VEVENT
DTSTART;TZID=America/Chicago:20260422T093000
DTEND;TZID=America/Chicago:20260422T113000
DTSTAMP:20260421T080051
CREATED:20251222T200403Z
LAST-MODIFIED:20260112T213138Z
UID:10008996-1776850200-1776857400@www.broadmoor.org
SUMMARY:Sisters In Christ Bible Study
DESCRIPTION:Diane Smith & Melinda Hendrix will lead this Women’s Ministry study this fall as they look at the Book of Matthew at 9:30 am in F100. For more information\, contact the Women’s Ministry at 601-898-2345 or women@broadmoor.org.
URL:https://www.broadmoor.org/event/sisters-in-christ-bible-study-2/2026-04-22/
LOCATION:F100
CATEGORIES:Women
ATTACH;FMTTYPE=image/jpeg:https://www.broadmoor.org/wp-content/uploads/2025/07/SistersInChrist.jpg
END:VEVENT
BEGIN:VEVENT
DTSTART;TZID=America/Chicago:20260422T181500
DTEND;TZID=America/Chicago:20260422T193000
DTSTAMP:20260421T080051
CREATED:20251222T200649Z
LAST-MODIFIED:20260112T215359Z
UID:10009025-1776881700-1776886200@www.broadmoor.org
SUMMARY:Vicki Watson Women's Bible Study
DESCRIPTION:Vicki Watson & Laura Watrous lead an intergenerational group of women through Daniel: Lives of Integrity\, Words of Prophecy by Beth Moore. This group meets in Love 221 on campus each Wednesday night at 6:15 pm unless otherwise noted. For more information\, contact the Women’s Ministry at women@broadmoor.org or 601-898-2345.
URL:https://www.broadmoor.org/event/vicki-watson-womens-bible-study-2/2026-04-22/
LOCATION:Love 221
CATEGORIES:Wednesdays,Women
ATTACH;FMTTYPE=image/jpeg:https://www.broadmoor.org/wp-content/uploads/2024/07/53139027230_a12e9f43e7_k-2-e1722345785622.jpg
END:VEVENT
BEGIN:VEVENT
DTSTART;TZID=America/Chicago:20260422T181500
DTEND;TZID=America/Chicago:20260422T193000
DTSTAMP:20260421T080051
CREATED:20251222T200936Z
LAST-MODIFIED:20260108T212702Z
UID:10009056-1776881700-1776886200@www.broadmoor.org
SUMMARY:Single Moms Bible Study
DESCRIPTION:Join Pattie Armstrong & Sandra Horne as they study Motherhood Through God’s Perspective from 6:15-7:30 pm in L205. For more information\, contact the Women’s Ministry at women@broadmoor.org or 601-898-2345.
URL:https://www.broadmoor.org/event/single-moms-bible-study-2/2026-04-22/
CATEGORIES:Wednesdays,Women
ATTACH;FMTTYPE=image/png:https://www.broadmoor.org/wp-content/uploads/2025/07/SingleMomsStudy.png
END:VEVENT
BEGIN:VEVENT
DTSTART;TZID=America/Chicago:20260422T181500
DTEND;TZID=America/Chicago:20260422T193000
DTSTAMP:20260421T080051
CREATED:20251222T201243Z
LAST-MODIFIED:20260112T215548Z
UID:10009086-1776881700-1776886200@www.broadmoor.org
SUMMARY:Wednesdays Precept Bible Study
DESCRIPTION:Join Dodie Offerman\, Barbara Gross\, & Melinda Hendrix as they study the books of 2 Samuel\, Kings\, and Prophets 1 & 2 using the Precept Ministries model of learning scripture and content at 6:15 pm in L201/203. For more information\, contact the Women’s Ministry at women@broadmoor.org or 601-898-2345.
URL:https://www.broadmoor.org/event/precept-bible-study-2/2026-04-22/
LOCATION:Love 201/203\, 1531 Highland Colony Parkway\, Madison\, MS\, 39110\, United States
CATEGORIES:Wednesdays,Women
ATTACH;FMTTYPE=image/jpeg:https://www.broadmoor.org/wp-content/uploads/2025/12/10756eab-09a2-4ab6-9923-4e6f3fdcfd90-8B5A0911__preview__-e1768254685204.jpg
END:VEVENT
BEGIN:VEVENT
DTSTART;TZID=America/Chicago:20260423T090000
DTEND;TZID=America/Chicago:20260423T110000
DTSTAMP:20260421T080051
CREATED:20260309T213454Z
LAST-MODIFIED:20260407T204513Z
UID:10009741-1776934800-1776942000@www.broadmoor.org
SUMMARY:Manna Women's Bible Study
DESCRIPTION:Kim Clark will lead this Women’s Ministry study this spring as they look at Anchored – The Life & Letters of the Apostle Peter by Marian Jordan Ellis from 9-11 am in room L221. For more information\, contact the Women’s Ministry at 601-898-2345 or women@broadmoor.org.
URL:https://www.broadmoor.org/event/manna-womens-bible-study-2/2026-04-23/
LOCATION:Love 221
CATEGORIES:Adults,Women
ATTACH;FMTTYPE=image/png:https://www.broadmoor.org/wp-content/uploads/2025/07/Manna-Bible-Study.png
END:VEVENT
BEGIN:VEVENT
DTSTART;TZID=America/Chicago:20260423T100000
DTEND;TZID=America/Chicago:20260423T120000
DTSTAMP:20260421T080051
CREATED:20251222T202351Z
LAST-MODIFIED:20260407T204719Z
UID:10009561-1776938400-1776945600@www.broadmoor.org
SUMMARY:Thursdays Precept Bible Study
DESCRIPTION:Join Dodie Offerman as she leads a study of 2 Samuel\, Kings\, and Prophets 1 & 2 using the Precept model of Bible study at 10 am in L201/203. For more information\, contact the Women’s Ministry at women@broadmoor.org or 601-898-2345.
URL:https://www.broadmoor.org/event/precept-bible-study-3-2/2026-04-23/
LOCATION:Love 201/203\, 1531 Highland Colony Parkway\, Madison\, MS\, 39110\, United States
CATEGORIES:Adults,Women
ATTACH;FMTTYPE=image/png:https://www.broadmoor.org/wp-content/uploads/2025/07/Precept-Bible-Study.png
END:VEVENT
BEGIN:VEVENT
DTSTART;TZID=America/Chicago:20260423T110000
DTEND;TZID=America/Chicago:20260423T120000
DTSTAMP:20260421T080051
CREATED:20251222T202205Z
LAST-MODIFIED:20251222T202219Z
UID:10009207-1776942000-1776945600@www.broadmoor.org
SUMMARY:Shay Greenwood Bible Study
DESCRIPTION:Join Shay Greenwood online each week as she digs into Finding Freedom in Christ by Portia Collins. This is a great option for those that are on the go each week and need the flexibility of an online option. For more information contact the Women’s Ministry at women@broadmoor.org or call 601-898-2345.
URL:https://www.broadmoor.org/event/shay-greenwood-bible-study/2026-04-23/
CATEGORIES:Online,Women
ATTACH;FMTTYPE=image/png:https://www.broadmoor.org/wp-content/uploads/2024/08/ZoomBibleStudy.png
END:VEVENT
END:VCALENDAR