BEGIN:VCALENDAR
VERSION:2.0
PRODID:-//Broadmoor Baptist Church - ECPv6.15.20//NONSGML v1.0//EN
CALSCALE:GREGORIAN
METHOD:PUBLISH
X-WR-CALNAME:Broadmoor Baptist Church
X-ORIGINAL-URL:https://www.broadmoor.org
X-WR-CALDESC:Events for Broadmoor Baptist Church
REFRESH-INTERVAL;VALUE=DURATION:PT1H
X-Robots-Tag:noindex
X-PUBLISHED-TTL:PT1H
BEGIN:VTIMEZONE
TZID:America/Chicago
BEGIN:DAYLIGHT
TZOFFSETFROM:-0600
TZOFFSETTO:-0500
TZNAME:CDT
DTSTART:20250309T080000
END:DAYLIGHT
BEGIN:STANDARD
TZOFFSETFROM:-0500
TZOFFSETTO:-0600
TZNAME:CST
DTSTART:20251102T070000
END:STANDARD
BEGIN:DAYLIGHT
TZOFFSETFROM:-0600
TZOFFSETTO:-0500
TZNAME:CDT
DTSTART:20260308T080000
END:DAYLIGHT
BEGIN:STANDARD
TZOFFSETFROM:-0500
TZOFFSETTO:-0600
TZNAME:CST
DTSTART:20261101T070000
END:STANDARD
BEGIN:DAYLIGHT
TZOFFSETFROM:-0600
TZOFFSETTO:-0500
TZNAME:CDT
DTSTART:20270314T080000
END:DAYLIGHT
BEGIN:STANDARD
TZOFFSETFROM:-0500
TZOFFSETTO:-0600
TZNAME:CST
DTSTART:20271107T070000
END:STANDARD
END:VTIMEZONE
BEGIN:VEVENT
DTSTART;TZID=America/Chicago:20260429T181500
DTEND;TZID=America/Chicago:20260429T193000
DTSTAMP:20260425T084328
CREATED:20251222T200649Z
LAST-MODIFIED:20260112T215359Z
UID:10009026-1777486500-1777491000@www.broadmoor.org
SUMMARY:Vicki Watson Women's Bible Study
DESCRIPTION:Vicki Watson & Laura Watrous lead an intergenerational group of women through Daniel: Lives of Integrity\, Words of Prophecy by Beth Moore. This group meets in Love 221 on campus each Wednesday night at 6:15 pm unless otherwise noted. For more information\, contact the Women’s Ministry at women@broadmoor.org or 601-898-2345.
URL:https://www.broadmoor.org/event/vicki-watson-womens-bible-study-2/2026-04-29/
LOCATION:Love 221
CATEGORIES:Wednesdays,Women
ATTACH;FMTTYPE=image/jpeg:https://www.broadmoor.org/wp-content/uploads/2024/07/53139027230_a12e9f43e7_k-2-e1722345785622.jpg
END:VEVENT
BEGIN:VEVENT
DTSTART;TZID=America/Chicago:20260429T181500
DTEND;TZID=America/Chicago:20260429T193000
DTSTAMP:20260425T084328
CREATED:20251222T200936Z
LAST-MODIFIED:20260108T212702Z
UID:10009057-1777486500-1777491000@www.broadmoor.org
SUMMARY:Single Moms Bible Study
DESCRIPTION:Join Pattie Armstrong & Sandra Horne as they study Motherhood Through God’s Perspective from 6:15-7:30 pm in L205. For more information\, contact the Women’s Ministry at women@broadmoor.org or 601-898-2345.
URL:https://www.broadmoor.org/event/single-moms-bible-study-2/2026-04-29/
CATEGORIES:Wednesdays,Women
ATTACH;FMTTYPE=image/png:https://www.broadmoor.org/wp-content/uploads/2025/07/SingleMomsStudy.png
END:VEVENT
BEGIN:VEVENT
DTSTART;TZID=America/Chicago:20260429T181500
DTEND;TZID=America/Chicago:20260429T193000
DTSTAMP:20260425T084328
CREATED:20251222T201243Z
LAST-MODIFIED:20260112T215548Z
UID:10009087-1777486500-1777491000@www.broadmoor.org
SUMMARY:Wednesdays Precept Bible Study
DESCRIPTION:Join Dodie Offerman\, Barbara Gross\, & Melinda Hendrix as they study the books of 2 Samuel\, Kings\, and Prophets 1 & 2 using the Precept Ministries model of learning scripture and content at 6:15 pm in L201/203. For more information\, contact the Women’s Ministry at women@broadmoor.org or 601-898-2345.
URL:https://www.broadmoor.org/event/precept-bible-study-2/2026-04-29/
LOCATION:Love 201/203\, 1531 Highland Colony Parkway\, Madison\, MS\, 39110\, United States
CATEGORIES:Wednesdays,Women
ATTACH;FMTTYPE=image/jpeg:https://www.broadmoor.org/wp-content/uploads/2025/12/10756eab-09a2-4ab6-9923-4e6f3fdcfd90-8B5A0911__preview__-e1768254685204.jpg
END:VEVENT
BEGIN:VEVENT
DTSTART;TZID=America/Chicago:20260429T181500
DTEND;TZID=America/Chicago:20260429T193000
DTSTAMP:20260425T084328
CREATED:20251222T221440Z
LAST-MODIFIED:20260305T211829Z
UID:10009272-1777486500-1777491000@www.broadmoor.org
SUMMARY:Men's Bible Study
DESCRIPTION:Join Jim McCay\, Jay Fletcher\, Rick Lachney\, and Brad Stubblefield on Wednesday Nights from 6:15 -7:30pm in the Community Room. For more information\, contact the Men’s Ministry at men@broadmoor.org or 601-898-2345.
URL:https://www.broadmoor.org/event/mens-bible-study-2/2026-04-29/
LOCATION:Community Room
CATEGORIES:Adults,Men,Wednesdays
ATTACH;FMTTYPE=image/jpeg:https://www.broadmoor.org/wp-content/uploads/2025/12/0f2de940-bf17-4603-869f-531a81cbabb3-8B5A0062__preview__.jpg
END:VEVENT
BEGIN:VEVENT
DTSTART;TZID=America/Chicago:20260429T181500
DTEND;TZID=America/Chicago:20260429T193000
DTSTAMP:20260425T084328
CREATED:20251222T221601Z
LAST-MODIFIED:20251222T221613Z
UID:10009303-1777486500-1777491000@www.broadmoor.org
SUMMARY:Shelter Ministry Support Group
DESCRIPTION:The Shelter Ministry Support Group is for anyone involved in foster care or adoption. Come find a safe place to open up about the joys and challenges of the journey. You’ll find encouragement in knowing the others in the room understand you and are walking the same road!
URL:https://www.broadmoor.org/event/shelter-ministry-support-group-2/2026-04-29/
LOCATION:Love 206
CATEGORIES:Care,Shelter,Wednesdays Care
ATTACH;FMTTYPE=image/jpeg:https://www.broadmoor.org/wp-content/uploads/2025/07/sincerely-media-dGxOgeXAXm8-unsplash-1-scaled-e1754000823302.jpg
END:VEVENT
BEGIN:VEVENT
DTSTART;TZID=America/Chicago:20260429T181500
DTEND;TZID=America/Chicago:20260429T193000
DTSTAMP:20260425T084328
CREATED:20251222T221718Z
LAST-MODIFIED:20251222T221741Z
UID:10009334-1777486500-1777491000@www.broadmoor.org
SUMMARY:Choir Rehearsal
DESCRIPTION:Join Johann Acuña for Worship Choir Rehearsal at 6:15 pm in the Choir Suite. The choir is a passionate group of singers who help lead congregational worship in Sunday services and special gatherings throughout the year. Open to adults of all ages\, the choir is a place for those who love to sing and want to use their gifts to serve the Lord.
URL:https://www.broadmoor.org/event/choir-rehearsal/2026-04-29/
LOCATION:Choir Suite
CATEGORIES:Wednesdays
ATTACH;FMTTYPE=image/jpeg:https://www.broadmoor.org/wp-content/uploads/2025/08/1dd1b393-7305-4a61-9f32-6e37cfb03831-img_9380_53813811570_o-e1754334115726.jpg
END:VEVENT
BEGIN:VEVENT
DTSTART;TZID=America/Chicago:20260429T181500
DTEND;TZID=America/Chicago:20260429T193000
DTSTAMP:20260425T084329
CREATED:20251222T221850Z
LAST-MODIFIED:20251222T221914Z
UID:10009365-1777486500-1777491000@www.broadmoor.org
SUMMARY:K4 & K5 Scriptures & Songs
DESCRIPTION:Join Preschool on Wednesday Nights from 6:15-7:30 pm for a fun evening filled with Bible stories\, music\, crafts\, and playtime as our youngest learners grow in their understanding of God’s love!
URL:https://www.broadmoor.org/event/k4-k5-scriptures-songs-2/2026-04-29/
LOCATION:Preschool
CATEGORIES:NextGen,Preschool,Wednesdays Nextgen
ATTACH;FMTTYPE=image/jpeg:https://www.broadmoor.org/wp-content/uploads/2025/07/53911007705_d3391c8639_k-e1754514787852.jpg
END:VEVENT
BEGIN:VEVENT
DTSTART;TZID=America/Chicago:20260429T181500
DTEND;TZID=America/Chicago:20260429T193000
DTSTAMP:20260425T084329
CREATED:20251222T222027Z
LAST-MODIFIED:20251222T222043Z
UID:10009398-1777486500-1777491000@www.broadmoor.org
SUMMARY:Discovery
DESCRIPTION:During Discovery on Wednesday nights your child will visit 3 different rotations: Bible skills\, snack and music. During Bible Skills kids will discover what God says about who He is and how He loves us! It is a night full of fun and learning that your child will not want to miss!
URL:https://www.broadmoor.org/event/discovery-2/2026-04-29/
LOCATION:Kidtown
CATEGORIES:Kids,NextGen,Wednesdays Nextgen
ATTACH;FMTTYPE=image/jpeg:https://www.broadmoor.org/wp-content/uploads/2025/04/53138816589_f18c075e2e_k-e1745876366426.jpg
END:VEVENT
BEGIN:VEVENT
DTSTART;TZID=America/Chicago:20260429T181500
DTEND;TZID=America/Chicago:20260429T193000
DTSTAMP:20260425T084329
CREATED:20251222T222241Z
LAST-MODIFIED:20260114T210836Z
UID:10009429-1777486500-1777491000@www.broadmoor.org
SUMMARY:5.1.7
DESCRIPTION:Join Middle School on Wednesday nights from 6:15-7:30 pm for a time of connection\, worship\, and bible teaching\, and practical application.
URL:https://www.broadmoor.org/event/5-1-7-2/2026-04-29/
LOCATION:Middle School 2nd Floor
CATEGORIES:Middle School,NextGen,Wednesdays Nextgen
ATTACH;FMTTYPE=image/jpeg:https://www.broadmoor.org/wp-content/uploads/2025/12/Image-5-e1768424903131.jpeg
END:VEVENT
BEGIN:VEVENT
DTSTART;TZID=America/Chicago:20260429T181500
DTEND;TZID=America/Chicago:20260429T193000
DTSTAMP:20260425T084329
CREATED:20251222T222343Z
LAST-MODIFIED:20251222T222358Z
UID:10009460-1777486500-1777491000@www.broadmoor.org
SUMMARY:THRIVE
DESCRIPTION:Join High School on Wednesday nights from 6:15-7:30 pm for a time of connection\, worship\, and bible teaching\, and practical application.
URL:https://www.broadmoor.org/event/thrive-2/2026-04-29/
LOCATION:3rd Floor Faith
CATEGORIES:High School,NextGen,Wednesdays Nextgen
ATTACH;FMTTYPE=image/jpeg:https://www.broadmoor.org/wp-content/uploads/2025/07/53910912514_af1587b6fa_k-e1753999011479.jpg
END:VEVENT
BEGIN:VEVENT
DTSTART;TZID=America/Chicago:20260429T181500
DTEND;TZID=America/Chicago:20260429T193000
DTSTAMP:20260425T084329
CREATED:20251222T222617Z
LAST-MODIFIED:20251223T203922Z
UID:10009484-1777486500-1777491000@www.broadmoor.org
SUMMARY:Revelation with Ben Gladd
DESCRIPTION:Join us for Revelation a captivating series with Dr. Ben Gladd starting January 14th through May 6th. from 6:15 -7:30 pm. Held on Wednesdays in The Venue\, this series will journey through one of the hardest books of the Bible to grasp. Dr. Gladd\, renowned for his insightful teaching and expertise\, will help us explore the themes of Revelation.
URL:https://www.broadmoor.org/event/revelation-with-ben-gladd/2026-04-29/
LOCATION:Venue
CATEGORIES:Adults,Wednesdays
ATTACH;FMTTYPE=image/jpeg:https://www.broadmoor.org/wp-content/uploads/2025/07/benjamin-gladd-executive-director-carson-center.jpg
END:VEVENT
END:VCALENDAR